BEGIN:VCALENDAR
VERSION:2.0
PRODID:-//frconline.org//NONSGML kigkonsult.se iCalcreator 2.30.10//
CALSCALE:GREGORIAN
METHOD:PUBLISH
UID:c129a59f-d1b1-44d6-af02-38c56e1eb124
X-WR-CALDESC:This is an ongoing class for Central Oregon parents with child
 ren between the ages of 5-12 years old -- This is a year round open enroll
 ment class\, enter anytime!\n\nYou'll learn positive parenting strategies 
 and parent with less stress and more FUN. \n\nFulfills mandated client req
 uirement.\n\nYou will receive a certificate after 12 consecutive weeks of 
 participation. \n\nCost: $Free\n\nCall to get register & get started!
X-WR-RELCALID:345b8f9b8b6caafbae6e16304a9e7c54
X-WR-TIMEZONE:America/Los_Angeles
BEGIN:VTIMEZONE
TZID:America/Los_Angeles
BEGIN:STANDARD
TZNAME:PST
DTSTART:20211107T020000
TZOFFSETFROM:-0700
TZOFFSETTO:-0800
RDATE:20221106T020000
RDATE:20231105T020000
END:STANDARD
BEGIN:DAYLIGHT
TZNAME:PDT
DTSTART:20220313T020000
TZOFFSETFROM:-0800
TZOFFSETTO:-0700
RDATE:20230312T020000
END:DAYLIGHT
END:VTIMEZONE
BEGIN:VEVENT
UID:2eb22f81-0f8d-4e97-96bf-efa1161f5a6c
DTSTAMP:20260422T060250Z
DESCRIPTION:This is an ongoing class for Central Oregon parents with childr
 en between the ages of 5-12 years old -- This is a year round open enrollm
 ent class\, enter anytime!\n\nYou'll learn positive parenting strategies a
 nd parent with less stress and more FUN. \n\nFulfills mandated client requ
 irement.\n\nYou will receive a certificate after 12 consecutive weeks of p
 articipation. \n\nCost: $Free\n\nCall to get register & get started!
DTSTART;TZID=America/Los_Angeles:20220818T173000
DTEND;TZID=America/Los_Angeles:20220818T190000
LOCATION:Zoom: Phone App\, Laptop\, Desktop
SUMMARY:Nurturing Parenting (School Age 5-12)
END:VEVENT
END:VCALENDAR
