BEGIN:VCALENDAR
VERSION:2.0
PRODID:-//frconline.org//NONSGML kigkonsult.se iCalcreator 2.30.10//
CALSCALE:GREGORIAN
METHOD:PUBLISH
UID:556a961c-4e2f-4b5b-9953-b6ce0020788b
X-WR-CALDESC:10-weekly sessions for parents with children ages newborn thro
 ugh age 8.\n\nJoin a community of parents to:\n-Discover ways to manage st
 ress\n-Learn about child development\n-Build your toolkit for positive dis
 cipline\n\nWhen:\nWednesday's April 20th - June 22nd\, 2022 5:30-7:30 PM\n
 \nWhere: Zoom. FREE!
X-WR-RELCALID:cb5cd07413f54723b98a94f200bcb3e2
X-WR-TIMEZONE:America/Los_Angeles
BEGIN:VTIMEZONE
TZID:America/Los_Angeles
BEGIN:STANDARD
TZNAME:PST
DTSTART:20211107T020000
TZOFFSETFROM:-0700
TZOFFSETTO:-0800
RDATE:20221106T020000
RDATE:20231105T020000
END:STANDARD
BEGIN:DAYLIGHT
TZNAME:PDT
DTSTART:20220313T020000
TZOFFSETFROM:-0800
TZOFFSETTO:-0700
RDATE:20230312T020000
END:DAYLIGHT
END:VTIMEZONE
BEGIN:VEVENT
UID:e373c962-a838-4373-82bd-bb7b3dccf357
DTSTAMP:20260422T092127Z
DESCRIPTION:10-weekly sessions for parents with children ages newborn throu
 gh age 8.\n\nJoin a community of parents to:\n-Discover ways to manage str
 ess\n-Learn about child development\n-Build your toolkit for positive disc
 ipline\n\nWhen:\nWednesday's April 20th - June 22nd\, 2022 5:30-7:30 PM\n
 \nWhere: Zoom. FREE!
DTSTART;TZID=America/Los_Angeles:20220601T173000
DTEND;TZID=America/Los_Angeles:20220601T193000
LOCATION:Via Zoom
SUMMARY:Make Parenting A Pleasure
END:VEVENT
END:VCALENDAR
