BEGIN:VCALENDAR
VERSION:2.0
PRODID:-//frconline.org//NONSGML kigkonsult.se iCalcreator 2.30.10//
CALSCALE:GREGORIAN
METHOD:PUBLISH
UID:a21f9cfa-4af7-4914-bf0c-0e63c28bb1e1
X-WR-CALDESC:10-weekly sessions for parents with children ages newborn thro
 ugh age 8.\n\nJoin a community of parents to:\n-Discover ways to manage st
 ress\n-Learn about child development\n-Build your toolkit for positive dis
 cipline\n\nWhen:\nWednesday's April 20th - June 22nd\, 2022 5:30-7:30 PM\n
 \nWhere: Zoom. FREE!
X-WR-RELCALID:025920bcafdc6c6669f05398c00b3c9d
X-WR-TIMEZONE:America/Los_Angeles
BEGIN:VTIMEZONE
TZID:America/Los_Angeles
BEGIN:STANDARD
TZNAME:PST
DTSTART:20211107T020000
TZOFFSETFROM:-0700
TZOFFSETTO:-0800
RDATE:20221106T020000
END:STANDARD
BEGIN:DAYLIGHT
TZNAME:PDT
DTSTART:20220313T020000
TZOFFSETFROM:-0800
TZOFFSETTO:-0700
RDATE:20230312T020000
END:DAYLIGHT
END:VTIMEZONE
BEGIN:VEVENT
UID:220d20bb-4e10-4187-b64d-79c966f7d4a7
DTSTAMP:20260422T122036Z
DESCRIPTION:10-weekly sessions for parents with children ages newborn throu
 gh age 8.\n\nJoin a community of parents to:\n-Discover ways to manage str
 ess\n-Learn about child development\n-Build your toolkit for positive disc
 ipline\n\nWhen:\nWednesday's April 20th - June 22nd\, 2022 5:30-7:30 PM\n
 \nWhere: Zoom. FREE!
DTSTART;TZID=America/Los_Angeles:20220427T173000
DTEND;TZID=America/Los_Angeles:20220427T193000
LOCATION:Via Zoom
SUMMARY:Make Parenting A Pleasure
END:VEVENT
END:VCALENDAR
