BEGIN:VCALENDAR
VERSION:2.0
PRODID:-//frconline.org//NONSGML kigkonsult.se iCalcreator 2.30.10//
CALSCALE:GREGORIAN
METHOD:PUBLISH
UID:60c7720e-2640-4e52-b9bf-134d5a21261d
X-WR-CALDESC:Para familias con niños de 8 a 15 años\nGRATIS!\nVia Zoom\nGan
 e premios!\n\nPara información o para registrarse llame al (541) 389-5468
X-WR-RELCALID:b305780f8edffb5f57b377a54e974bc1
X-WR-TIMEZONE:America/Los_Angeles
BEGIN:VTIMEZONE
TZID:America/Los_Angeles
BEGIN:STANDARD
TZNAME:PST
DTSTART:20211107T020000
TZOFFSETFROM:-0700
TZOFFSETTO:-0800
RDATE:20221106T020000
END:STANDARD
BEGIN:DAYLIGHT
TZNAME:PDT
DTSTART:20220313T020000
TZOFFSETFROM:-0800
TZOFFSETTO:-0700
RDATE:20230312T020000
END:DAYLIGHT
END:VTIMEZONE
BEGIN:VEVENT
UID:effc2a94-27bd-4831-aa93-0c9ac5b6aeaa
DTSTAMP:20260422T122544Z
DESCRIPTION:Para familias con niños de 8 a 15 años\nGRATIS!\nVia Zoom\nGane
  premios!\n\nPara información o para registrarse llame al (541) 389-5468
DTSTART;TZID=America/Los_Angeles:20220422T180000
DTEND;TZID=America/Los_Angeles:20220422T190000
LOCATION:
SUMMARY:Noche de Juegos en Familia
END:VEVENT
END:VCALENDAR
