BEGIN:VCALENDAR
VERSION:2.0
PRODID:-//frconline.org//NONSGML kigkonsult.se iCalcreator 2.30.10//
CALSCALE:GREGORIAN
METHOD:PUBLISH
UID:db3cca39-e1d6-48b5-a884-d16cc3183d09
X-WR-CALDESC:A seven week group perfect for families with children from\n9 
 to 14 years old.\n\nEach week families will join Zoom and receive a box in
  the mail with materials and instructions on how to participate in the wee
 kly lessons and challenges. The boxes include family games\, family fun\, 
 recipes\, and art supplies. There will be weekly incentives for those who 
 attend and participate! Access to the closed Facebook group.\n\nCost: Free
X-WR-RELCALID:d51b75a14c53b8017fee2ffe4a034f50
X-WR-TIMEZONE:America/Los_Angeles
BEGIN:VTIMEZONE
TZID:America/Los_Angeles
BEGIN:STANDARD
TZNAME:PST
DTSTART:20211107T020000
TZOFFSETFROM:-0700
TZOFFSETTO:-0800
RDATE:20221106T020000
END:STANDARD
BEGIN:DAYLIGHT
TZNAME:PDT
DTSTART:20220313T020000
TZOFFSETFROM:-0800
TZOFFSETTO:-0700
RDATE:20230312T020000
END:DAYLIGHT
END:VTIMEZONE
BEGIN:VEVENT
UID:0a787fd5-6a48-4adf-abd9-a7a3edc8e79c
DTSTAMP:20260422T121307Z
DESCRIPTION:A seven week group perfect for families with children from\n9 t
 o 14 years old.\n\nEach week families will join Zoom and receive a box in 
 the mail with materials and instructions on how to participate in the week
 ly lessons and challenges. The boxes include family games\, family fun\, r
 ecipes\, and art supplies. There will be weekly incentives for those who a
 ttend and participate! Access to the closed Facebook group.\n\nCost: Free
DTSTART;TZID=America/Los_Angeles:20220421T173000
DTEND;TZID=America/Los_Angeles:20220421T193000
LOCATION:Via Zoom
SUMMARY:Family Challenge
END:VEVENT
END:VCALENDAR
