BEGIN:VCALENDAR
VERSION:2.0
PRODID:-//frconline.org//NONSGML kigkonsult.se iCalcreator 2.30.10//
CALSCALE:GREGORIAN
METHOD:PUBLISH
UID:01275fa8-2a22-47cd-a7b3-f6c1bae54809
X-WR-CALDESC:Are you ready to have fun with your family & win prizes with y
 our family?? \n\nJoin us every Friday on Zoom or just once\; perfect for f
 amilies with kids ages 8-15 years old.
X-WR-RELCALID:74c84048875c400c2b8ccc1960d8bec0
X-WR-TIMEZONE:America/Los_Angeles
BEGIN:VTIMEZONE
TZID:America/Los_Angeles
BEGIN:STANDARD
TZNAME:PST
DTSTART:20211107T020000
TZOFFSETFROM:-0700
TZOFFSETTO:-0800
RDATE:20221106T020000
END:STANDARD
BEGIN:DAYLIGHT
TZNAME:PDT
DTSTART:20220313T020000
TZOFFSETFROM:-0800
TZOFFSETTO:-0700
RDATE:20230312T020000
END:DAYLIGHT
END:VTIMEZONE
BEGIN:VEVENT
UID:4ed83cd7-6056-4142-a506-9ff8dd5dad86
DTSTAMP:20260422T122310Z
DESCRIPTION:Are you ready to have fun with your family & win prizes with yo
 ur family?? \n\nJoin us every Friday on Zoom or just once\; perfect for fa
 milies with kids ages 8-15 years old.
DTSTART;TZID=America/Los_Angeles:20220415T180000
DTEND;TZID=America/Los_Angeles:20220415T190000
LOCATION:Zoom
SUMMARY:Family Game Night
END:VEVENT
END:VCALENDAR
