BEGIN:VCALENDAR
VERSION:2.0
PRODID:-//frconline.org//NONSGML kigkonsult.se iCalcreator 2.30.10//
CALSCALE:GREGORIAN
METHOD:PUBLISH
UID:9b6c6210-da5f-4a2e-9776-fc741e44e592
X-WR-CALDESC:Un grupo de siete semanas perfecto para familias con niños de 
 9 a 14 años. \n\nCada semana las familias se van a unir en Zoom y van a re
 cibir una caja en el correo con materiales y instrucciones de como partici
 par en las lecciones y retos semanales. Las cajas incluyen juegos familiar
 es\, diversión para la familia\, recetas y artículos de arte.\n¡Habra ince
 ntivos semanales para los que asistan y participen! \nAcceso al grupo cerr
 ado de Facebook.\n\nCosto: ¡Gratis!\nPara registrarse: Llama a Rosa 541-60
 4-2031\nAbierto a todas las families de Oregon Central
X-WR-RELCALID:bf2307addcc5f25ef76259a5a7d60c17
X-WR-TIMEZONE:America/Los_Angeles
BEGIN:VTIMEZONE
TZID:America/Los_Angeles
BEGIN:STANDARD
TZNAME:PST
DTSTART:20211107T020000
TZOFFSETFROM:-0700
TZOFFSETTO:-0800
RDATE:20221106T020000
END:STANDARD
BEGIN:DAYLIGHT
TZNAME:PDT
DTSTART:20210314T020000
TZOFFSETFROM:-0800
TZOFFSETTO:-0700
RDATE:20220313T020000
RDATE:20230312T020000
END:DAYLIGHT
END:VTIMEZONE
BEGIN:VEVENT
UID:50aacbaf-3760-4e4d-8988-5053e34661a3
DTSTAMP:20260422T135422Z
DESCRIPTION:Un grupo de siete semanas perfecto para familias con niños de 9
  a 14 años. \n\nCada semana las familias se van a unir en Zoom y van a rec
 ibir una caja en el correo con materiales y instrucciones de como particip
 ar en las lecciones y retos semanales. Las cajas incluyen juegos familiare
 s\, diversión para la familia\, recetas y artículos de arte.\n¡Habra incen
 tivos semanales para los que asistan y participen! \nAcceso al grupo cerra
 do de Facebook.\n\nCosto: ¡Gratis!\nPara registrarse: Llama a Rosa 541-604
 -2031\nAbierto a todas las families de Oregon Central
DTSTART;TZID=America/Los_Angeles:20220311T180000
DTEND;TZID=America/Los_Angeles:20220311T193000
LOCATION:Via Zoom
SUMMARY:Desafío Familiar
END:VEVENT
END:VCALENDAR
