BEGIN:VCALENDAR
VERSION:2.0
PRODID:-//frconline.org//NONSGML kigkonsult.se iCalcreator 2.30.10//
CALSCALE:GREGORIAN
METHOD:PUBLISH
UID:6b0e5f3e-9107-4964-bfb3-10d1a8832da8
X-WR-CALDESC:Para padres con hijos de nacido-5 años.\n\nIImagínate tal vez 
 como se sintiera si pudieras entender lo que tu hija/o realmente te está p
 idiendo.\n- Ayudar a tu hija/o sentir seguros.\n- Aprender cómo entender y
  leer las necesidades emocionales de su hija/o \n- Ayudar a su hija/o mane
 jar sus emociones Mejorar la autoestima de su hija/o\n\nCuando: Miercoles 
 6:00pm-7:30pm\n9 de febrero-13 de abril\n\nDonde: Via Zoom Costo: Gratis\n
 \nPara reservar su lugar\nLlama al 541-389-5468 y imprima opción 2
X-WR-RELCALID:96fece8517f4e7c57acc3fa231e3d4f6
X-WR-TIMEZONE:America/Los_Angeles
BEGIN:VTIMEZONE
TZID:America/Los_Angeles
BEGIN:STANDARD
TZNAME:PST
DTSTART:20211107T020000
TZOFFSETFROM:-0700
TZOFFSETTO:-0800
RDATE:20221106T020000
END:STANDARD
BEGIN:DAYLIGHT
TZNAME:PDT
DTSTART:20210314T020000
TZOFFSETFROM:-0800
TZOFFSETTO:-0700
RDATE:20220313T020000
RDATE:20230312T020000
END:DAYLIGHT
END:VTIMEZONE
BEGIN:VEVENT
UID:53c73e8f-ba6b-4c07-ae33-2bd610893a11
DTSTAMP:20260422T150222Z
DESCRIPTION:Para padres con hijos de nacido-5 años.\n\nIImagínate tal vez c
 omo se sintiera si pudieras entender lo que tu hija/o realmente te está pi
 diendo.\n- Ayudar a tu hija/o sentir seguros.\n- Aprender cómo entender y 
 leer las necesidades emocionales de su hija/o \n- Ayudar a su hija/o manej
 ar sus emociones Mejorar la autoestima de su hija/o\n\nCuando: Miercoles 6
 :00pm-7:30pm\n9 de febrero-13 de abril\n\nDonde: Via Zoom Costo: Gratis\n
 \nPara reservar su lugar\nLlama al 541-389-5468 y imprima opción 2
DTSTART;TZID=America/Los_Angeles:20220209T180000
DTEND;TZID=America/Los_Angeles:20220209T193000
LOCATION:Via Zoom
SUMMARY:Circulo de Seguridad
END:VEVENT
END:VCALENDAR
