BEGIN:VCALENDAR
VERSION:2.0
PRODID:-//frconline.org//NONSGML kigkonsult.se iCalcreator 2.30.10//
CALSCALE:GREGORIAN
METHOD:PUBLISH
UID:12f26111-fd51-4835-bf71-03fa380d3c2a
X-WR-CALDESC:For families with youth ages 10-17 years old. \n\nLearn about:
 \n- Parenting in the age of technology and social media\n- How brain devel
 opment affects teen behavior and decision-making\n- How to improve communi
 cation & more!
X-WR-RELCALID:923adef8d24ed5bdddd211e8d907cec5
X-WR-TIMEZONE:America/Los_Angeles
BEGIN:VTIMEZONE
TZID:America/Los_Angeles
BEGIN:STANDARD
TZNAME:PST
DTSTART:20211107T020000
TZOFFSETFROM:-0700
TZOFFSETTO:-0800
RDATE:20221106T020000
END:STANDARD
BEGIN:DAYLIGHT
TZNAME:PDT
DTSTART:20210314T020000
TZOFFSETFROM:-0800
TZOFFSETTO:-0700
RDATE:20220313T020000
RDATE:20230312T020000
END:DAYLIGHT
END:VTIMEZONE
BEGIN:VEVENT
UID:86a18385-2ad3-4089-9610-4f14f69df29f
DTSTAMP:20260422T180947Z
DESCRIPTION:For families with youth ages 10-17 years old. \n\nLearn about:
 \n- Parenting in the age of technology and social media\n- How brain devel
 opment affects teen behavior and decision-making\n- How to improve communi
 cation & more!
DTSTART;TZID=America/Los_Angeles:20211207T173000
DTEND;TZID=America/Los_Angeles:20211207T193000
LOCATION:by Zoom
SUMMARY:Active Parenting of Teens
END:VEVENT
END:VCALENDAR
