BEGIN:VCALENDAR
VERSION:2.0
PRODID:-//frconline.org//NONSGML kigkonsult.se iCalcreator 2.30.10//
CALSCALE:GREGORIAN
METHOD:PUBLISH
UID:66f19137-cb7d-4b61-85db-f116a2d4d3d5
X-WR-CALDESC:For families with youth ages 10-17 years old. \n\nLearn about:
 \n- Parenting in the age of technology and social media\n- How brain devel
 opment affects teen behavior and decision-making\n- How to improve communi
 cation & more!
X-WR-RELCALID:1592f60fb5ef6e6f530d121e3ed6b0ca
X-WR-TIMEZONE:America/Los_Angeles
BEGIN:VTIMEZONE
TZID:America/Los_Angeles
BEGIN:STANDARD
TZNAME:PST
DTSTART:20211107T020000
TZOFFSETFROM:-0700
TZOFFSETTO:-0800
RDATE:20221106T020000
END:STANDARD
BEGIN:DAYLIGHT
TZNAME:PDT
DTSTART:20210314T020000
TZOFFSETFROM:-0800
TZOFFSETTO:-0700
RDATE:20220313T020000
RDATE:20230312T020000
END:DAYLIGHT
END:VTIMEZONE
BEGIN:VEVENT
UID:90d859ee-7896-480e-b309-cc457e8b8868
DTSTAMP:20260422T192804Z
DESCRIPTION:For families with youth ages 10-17 years old. \n\nLearn about:
 \n- Parenting in the age of technology and social media\n- How brain devel
 opment affects teen behavior and decision-making\n- How to improve communi
 cation & more!
DTSTART;TZID=America/Los_Angeles:20211123T173000
DTEND;TZID=America/Los_Angeles:20211123T193000
LOCATION:by Zoom
SUMMARY:Active Parenting of Teens
END:VEVENT
END:VCALENDAR
