BEGIN:VCALENDAR
VERSION:2.0
PRODID:-//frconline.org//NONSGML kigkonsult.se iCalcreator 2.30.10//
CALSCALE:GREGORIAN
METHOD:PUBLISH
UID:6a9154d7-2370-4391-9b29-c48e9dbdde97
X-WR-CALDESC:For parents with children from birth - 5 years old\n\nLearn ho
 w to make sense of what your child is really asking for:\n\n-Help your chi
 ld feel secure\n-Learn to understand & read your child's emotional needs\n
 -Help your child manage their emotions\n-Enhance your child's self esteem
 \n\nFree!\n\nTo reserve your space call 541-389-5468 option 2
X-WR-RELCALID:9e2135aa76e69ac934f1543d9dbcfc6f
X-WR-TIMEZONE:America/Los_Angeles
BEGIN:VTIMEZONE
TZID:America/Los_Angeles
BEGIN:STANDARD
TZNAME:PST
DTSTART:20201101T020000
TZOFFSETFROM:-0700
TZOFFSETTO:-0800
RDATE:20211107T020000
RDATE:20221106T020000
END:STANDARD
BEGIN:DAYLIGHT
TZNAME:PDT
DTSTART:20210314T020000
TZOFFSETFROM:-0800
TZOFFSETTO:-0700
RDATE:20220313T020000
RDATE:20230312T020000
END:DAYLIGHT
END:VTIMEZONE
BEGIN:VEVENT
UID:766de371-6fcb-4b8d-96a4-f02e2252308c
DTSTAMP:20260422T204716Z
DESCRIPTION:For parents with children from birth - 5 years old\n\nLearn how
  to make sense of what your child is really asking for:\n\n-Help your chil
 d feel secure\n-Learn to understand & read your child's emotional needs\n-
 Help your child manage their emotions\n-Enhance your child's self esteem\n
 \nFree!\n\nTo reserve your space call 541-389-5468 option 2
DTSTART;TZID=America/Los_Angeles:20211004T173000
DTEND;TZID=America/Los_Angeles:20211004T190000
LOCATION:Via Zoom: Desktop or Phone
SUMMARY:Circle of Security Parenting
END:VEVENT
END:VCALENDAR
