BEGIN:VCALENDAR
VERSION:2.0
PRODID:-//frconline.org//NONSGML kigkonsult.se iCalcreator 2.30.10//
CALSCALE:GREGORIAN
METHOD:PUBLISH
UID:e204eb8c-ccd6-47f5-90a3-fda2169e0df6
X-WR-CALDESC:Para padres con hijos de nacido - 5 años\n\nImagínate tal vez 
 como se sintiera si pudieras entender lo que tu hija/o realmente te está p
 idiendo.\n\n- Ayudar a tu hija/o sentir seguros\n- Aprender cómo entender 
 y leer las necesidades emocionales de su hija/o\n- Ayudar a su hijo maneja
 r sus emociones\n- Mejorar la autoestima de su hijo\n\nLlama al (541) 389-
 5468 y imprima opción 2
X-WR-RELCALID:b963a3597130115929dd4f400cb0b362
X-WR-TIMEZONE:America/Los_Angeles
BEGIN:VTIMEZONE
TZID:America/Los_Angeles
BEGIN:STANDARD
TZNAME:PST
DTSTART:20201101T020000
TZOFFSETFROM:-0700
TZOFFSETTO:-0800
RDATE:20211107T020000
RDATE:20221106T020000
END:STANDARD
BEGIN:DAYLIGHT
TZNAME:PDT
DTSTART:20210314T020000
TZOFFSETFROM:-0800
TZOFFSETTO:-0700
RDATE:20220313T020000
RDATE:20230312T020000
END:DAYLIGHT
END:VTIMEZONE
BEGIN:VEVENT
UID:9b21ca49-fbb4-4caf-876d-314bc974ebdf
DTSTAMP:20260422T222727Z
DESCRIPTION:Para padres con hijos de nacido - 5 años\n\nImagínate tal vez c
 omo se sintiera si pudieras entender lo que tu hija/o realmente te está pi
 diendo.\n\n- Ayudar a tu hija/o sentir seguros\n- Aprender cómo entender y
  leer las necesidades emocionales de su hija/o\n- Ayudar a su hijo manejar
  sus emociones\n- Mejorar la autoestima de su hijo\n\nLlama al (541) 389-5
 468 y imprima opción 2
DTSTART;TZID=America/Los_Angeles:20210930T180000
DTEND;TZID=America/Los_Angeles:20210930T193000
LOCATION:Via Zoom
SUMMARY:Círculo de seguridad
END:VEVENT
END:VCALENDAR
