BEGIN:VCALENDAR
VERSION:2.0
PRODID:-//frconline.org//NONSGML kigkonsult.se iCalcreator 2.30.10//
CALSCALE:GREGORIAN
METHOD:PUBLISH
UID:415bf536-24f0-490a-bdfc-09e47f0a69f2
X-WR-CALDESC:What is KEEP?\n\n- Toddler Groups for foster\, kinship\, and r
 esource parents who are parenting children 3 to 4 years old\n- KEEP is a s
 upportive place to talk about children and youth and your home. \n- 7-12 f
 oster/ kinship/ resource families and two trained group leaders\n- KEEP is
  a support group\, not a class!\n- 16 weekly\, 90 minute sessions\n- Evide
 nce-based parenting strategies tailored to each group's specific needs\n- 
 $25 incentive per household per session - earn up to $400!\n- Participants
  earn up to 24 foster parent training hours\n- KEEP is available via video
  conference
X-WR-RELCALID:2c4d97223ae421063a402f1071a686be
X-WR-TIMEZONE:America/Los_Angeles
BEGIN:VTIMEZONE
TZID:America/Los_Angeles
BEGIN:STANDARD
TZNAME:PST
DTSTART:20201101T020000
TZOFFSETFROM:-0700
TZOFFSETTO:-0800
RDATE:20211107T020000
RDATE:20221106T020000
END:STANDARD
BEGIN:DAYLIGHT
TZNAME:PDT
DTSTART:20210314T020000
TZOFFSETFROM:-0800
TZOFFSETTO:-0700
RDATE:20220313T020000
RDATE:20230312T020000
END:DAYLIGHT
END:VTIMEZONE
BEGIN:VEVENT
UID:95828ff5-3dea-4fcf-8db1-9333b85c7a11
DTSTAMP:20260422T222546Z
DESCRIPTION:What is KEEP?\n\n- Toddler Groups for foster\, kinship\, and re
 source parents who are parenting children 3 to 4 years old\n- KEEP is a su
 pportive place to talk about children and youth and your home. \n- 7-12 fo
 ster/ kinship/ resource families and two trained group leaders\n- KEEP is 
 a support group\, not a class!\n- 16 weekly\, 90 minute sessions\n- Eviden
 ce-based parenting strategies tailored to each group's specific needs\n- $
 25 incentive per household per session - earn up to $400!\n- Participants 
 earn up to 24 foster parent training hours\n- KEEP is available via video 
 conference
DTSTART;TZID=America/Los_Angeles:20210928T173000
DTEND;TZID=America/Los_Angeles:20210928T190000
LOCATION:Zoom: Phone App\, Laptop\, Desktop
SUMMARY:KEEP Toddler Group
END:VEVENT
END:VCALENDAR
