BEGIN:VCALENDAR
VERSION:2.0
PRODID:-//frconline.org//NONSGML kigkonsult.se iCalcreator 2.30.10//
CALSCALE:GREGORIAN
METHOD:PUBLISH
UID:e7ef192d-bc0e-4181-8332-2e604966a9ca
X-WR-CALDESC:For foster parents of children between the ages of 4-12 years 
 old.\n \nKEEP foster parent support groups provide foster parents a welcom
 e place to share experiences\, get tips and strategies\, and most importan
 tly\, the support that is critical in this frequently stressful parenting 
 role.\n\nEarn training credits & receive a $25 weekly stipend!
X-WR-RELCALID:7c0d32fd63f22d1d5d105e74369f4522
X-WR-TIMEZONE:America/Los_Angeles
BEGIN:VTIMEZONE
TZID:America/Los_Angeles
BEGIN:STANDARD
TZNAME:PST
DTSTART:20201101T020000
TZOFFSETFROM:-0700
TZOFFSETTO:-0800
RDATE:20211107T020000
RDATE:20221106T020000
END:STANDARD
BEGIN:DAYLIGHT
TZNAME:PDT
DTSTART:20210314T020000
TZOFFSETFROM:-0800
TZOFFSETTO:-0700
RDATE:20220313T020000
RDATE:20230312T020000
END:DAYLIGHT
END:VTIMEZONE
BEGIN:VEVENT
UID:7719a386-5dcf-4c98-80cb-7386c633d4bb
DTSTAMP:20260422T222544Z
DESCRIPTION:For foster parents of children between the ages of 4-12 years o
 ld.\n \nKEEP foster parent support groups provide foster parents a welcome
  place to share experiences\, get tips and strategies\, and most important
 ly\, the support that is critical in this frequently stressful parenting r
 ole.\n\nEarn training credits & receive a $25 weekly stipend!
DTSTART;TZID=America/Los_Angeles:20210921T100000
DTEND;TZID=America/Los_Angeles:20210921T113000
LOCATION:
SUMMARY:KEEP Standard - Foster Parent Support Group
END:VEVENT
END:VCALENDAR
