BEGIN:VCALENDAR
VERSION:2.0
PRODID:-//frconline.org//NONSGML kigkonsult.se iCalcreator 2.30.10//
CALSCALE:GREGORIAN
METHOD:PUBLISH
UID:7e5af282-50a5-4b86-b3b5-34c08993dda4
X-WR-CALDESC:KEEP is a support group\, not a class! Connect with other fost
 er parents and kinship families. Get familiar with evidence -based parenti
 ng tools you can use today!\n\n$25 incentive check each remote session att
 ended per household\nUp to 24 foster parent training hours towards DHS cer
 tification\n7-12 foster/kinship parents and two trained group leaders\n16 
 weekly 90-minutes sessions\n\nWho is eligible?\nAll DHS-certified foster p
 arents\nKinship families\nMust have a current foster youth between the age
 s 4-12 years old\n*We can accommodate you in a group that fits your schedu
 le. Let us know what works!*
X-WR-RELCALID:201a5df39a3aa2ad5a5a5919f25e9ef4
X-WR-TIMEZONE:America/Los_Angeles
BEGIN:VTIMEZONE
TZID:America/Los_Angeles
BEGIN:STANDARD
TZNAME:PST
DTSTART:20201101T020000
TZOFFSETFROM:-0700
TZOFFSETTO:-0800
RDATE:20211107T020000
RDATE:20221106T020000
END:STANDARD
BEGIN:DAYLIGHT
TZNAME:PDT
DTSTART:20210314T020000
TZOFFSETFROM:-0800
TZOFFSETTO:-0700
RDATE:20220313T020000
RDATE:20230312T020000
END:DAYLIGHT
END:VTIMEZONE
BEGIN:VEVENT
UID:f8bf1b00-3361-46d6-ba7c-82704ab7f96c
DTSTAMP:20260422T222750Z
DESCRIPTION:KEEP is a support group\, not a class! Connect with other foste
 r parents and kinship families. Get familiar with evidence -based parentin
 g tools you can use today!\n\n$25 incentive check each remote session atte
 nded per household\nUp to 24 foster parent training hours towards DHS cert
 ification\n7-12 foster/kinship parents and two trained group leaders\n16 w
 eekly 90-minutes sessions\n\nWho is eligible?\nAll DHS-certified foster pa
 rents\nKinship families\nMust have a current foster youth between the ages
  4-12 years old\n*We can accommodate you in a group that fits your schedul
 e. Let us know what works!*
DTSTART;TZID=America/Los_Angeles:20210921T100000
DTEND;TZID=America/Los_Angeles:20210921T113000
LOCATION:Zoom: Phone App\, Laptop\, Desktop
SUMMARY:KEEP Standard: Foster Parent Support Group (4-12 years old)
END:VEVENT
END:VCALENDAR
