BEGIN:VCALENDAR
VERSION:2.0
PRODID:-//frconline.org//NONSGML kigkonsult.se iCalcreator 2.30.10//
CALSCALE:GREGORIAN
METHOD:PUBLISH
UID:05cdd649-cdb7-4a0b-a3be-a438dc65d3dd
X-WR-CALDESC:For parents with children from birth - 5 years old\n\nLearn ho
 w to make sense of what your child is really asking for:\n\n-Help your chi
 ld feel secure\n-Learn to understand & read your child's emotional needs\n
 -Help your child manage their emotions\n-Enhance your child's self esteem
 \n\nFree!\n\nTo reserve your space call 541-389-5468 option 2
X-WR-RELCALID:27b4d8b90988781ff936791bc1b0b714
X-WR-TIMEZONE:America/Los_Angeles
BEGIN:VTIMEZONE
TZID:America/Los_Angeles
BEGIN:STANDARD
TZNAME:PST
DTSTART:20201101T020000
TZOFFSETFROM:-0700
TZOFFSETTO:-0800
RDATE:20211107T020000
RDATE:20221106T020000
END:STANDARD
BEGIN:DAYLIGHT
TZNAME:PDT
DTSTART:20210314T020000
TZOFFSETFROM:-0800
TZOFFSETTO:-0700
RDATE:20220313T020000
RDATE:20230312T020000
END:DAYLIGHT
END:VTIMEZONE
BEGIN:VEVENT
UID:64371675-da6c-445a-81f7-d4127de1a272
DTSTAMP:20260422T222552Z
DESCRIPTION:For parents with children from birth - 5 years old\n\nLearn how
  to make sense of what your child is really asking for:\n\n-Help your chil
 d feel secure\n-Learn to understand & read your child's emotional needs\n-
 Help your child manage their emotions\n-Enhance your child's self esteem\n
 \nFree!\n\nTo reserve your space call 541-389-5468 option 2
DTSTART;TZID=America/Los_Angeles:20210920T173000
DTEND;TZID=America/Los_Angeles:20210920T190000
LOCATION:Via Zoom: Desktop or Phone
SUMMARY:Circle of Security Parenting
END:VEVENT
END:VCALENDAR
