BEGIN:VCALENDAR
VERSION:2.0
PRODID:-//frconline.org//NONSGML kigkonsult.se iCalcreator 2.30.10//
CALSCALE:GREGORIAN
METHOD:PUBLISH
UID:7c4c9572-c875-4967-97ed-16aa51131af4
X-WR-CALDESC:The Family Law Education Program is offered to parents in Desc
 hutes County experiencing family restructuring such as a separation or div
 orce.\n\nClass details: \nLocation - via Zoom\n \nDates: \nFirst Tuesday o
 f the month 5:30-9:30 p.m. \nFirst Thursday of the month 8:00 a.m.-12:00 p
 .m.\n \nCost:\n$70 per person (Includes $20 materials fee that cannot be w
 aived)\n\nTo Register: Call (541) 389-5468 with your case number and payme
 nt\n\nHabla Español? Para registrase para la clase\, llame a Rosa al (541)
  604-2031.
X-WR-RELCALID:f9054d7c5ec8a9c90bc6cfbfbc8b206e
X-WR-TIMEZONE:America/Los_Angeles
BEGIN:VTIMEZONE
TZID:America/Los_Angeles
BEGIN:STANDARD
TZNAME:PST
DTSTART:20201101T020000
TZOFFSETFROM:-0700
TZOFFSETTO:-0800
RDATE:20211107T020000
RDATE:20221106T020000
END:STANDARD
BEGIN:DAYLIGHT
TZNAME:PDT
DTSTART:20210314T020000
TZOFFSETFROM:-0800
TZOFFSETTO:-0700
RDATE:20220313T020000
END:DAYLIGHT
END:VTIMEZONE
BEGIN:VEVENT
UID:013771bc-69f1-4479-9188-630274a1c6f0
DTSTAMP:20260422T222616Z
DESCRIPTION:The Family Law Education Program is offered to parents in Desch
 utes County experiencing family restructuring such as a separation or divo
 rce.\n\nClass details: \nLocation - via Zoom\n \nDates: \nFirst Tuesday of
  the month 5:30-9:30 p.m. \nFirst Thursday of the month 8:00 a.m.-12:00 p.
 m.\n \nCost:\n$70 per person (Includes $20 materials fee that cannot be wa
 ived)\n\nTo Register: Call (541) 389-5468 with your case number and paymen
 t\n\nHabla Español? Para registrase para la clase\, llame a Rosa al (541) 
 604-2031.
DTSTART;TZID=America/Los_Angeles:20210907T173000
DTEND;TZID=America/Los_Angeles:20210907T213000
LOCATION:A location of your choosing via computer or the Zoom app
SUMMARY:Family Law Education Program
END:VEVENT
END:VCALENDAR
