BEGIN:VCALENDAR
VERSION:2.0
PRODID:-//frconline.org//NONSGML kigkonsult.se iCalcreator 2.30.10//
CALSCALE:GREGORIAN
METHOD:PUBLISH
UID:84bc46dd-f421-4846-a762-cbaf13b6b1fd
X-WR-CALDESC:For families with children ages birth to 8-years old. This 12 
 week group focuses on building positive relationships with your children:
 \n\n*Discover how to manage stress in healthy ways\n*Learn the latest idea
 s about child development\n*Build your toolkit for positive discipline\n*G
 row your support network with other parents
X-WR-RELCALID:fa888bacfc48484dd03eb4c5e39946ff
X-WR-TIMEZONE:America/Los_Angeles
BEGIN:VTIMEZONE
TZID:America/Los_Angeles
BEGIN:STANDARD
TZNAME:PST
DTSTART:20201101T020000
TZOFFSETFROM:-0700
TZOFFSETTO:-0800
RDATE:20211107T020000
RDATE:20221106T020000
END:STANDARD
BEGIN:DAYLIGHT
TZNAME:PDT
DTSTART:20210314T020000
TZOFFSETFROM:-0800
TZOFFSETTO:-0700
RDATE:20220313T020000
END:DAYLIGHT
END:VTIMEZONE
BEGIN:VEVENT
UID:775ef868-4fb1-4870-bad2-f22449f43922
DTSTAMP:20260423T000705Z
DESCRIPTION:For families with children ages birth to 8-years old. This 12 w
 eek group focuses on building positive relationships with your children:\n
 \n*Discover how to manage stress in healthy ways\n*Learn the latest ideas 
 about child development\n*Build your toolkit for positive discipline\n*Gro
 w your support network with other parents
DTSTART;TZID=America/Los_Angeles:20210830T180000
DTEND;TZID=America/Los_Angeles:20210830T193000
LOCATION:Via Zoom
SUMMARY:Make Parenting a Pleasure
END:VEVENT
END:VCALENDAR
