BEGIN:VCALENDAR
VERSION:2.0
PRODID:-//frconline.org//NONSGML kigkonsult.se iCalcreator 2.30.10//
CALSCALE:GREGORIAN
METHOD:PUBLISH
UID:c9a3f571-fa33-4fe7-97f3-b35fd4244d1e
X-WR-CALDESC:GRATIS! Ayudar a nuestros peques en su desarrollo con activida
 des divertidas!\n\nPara padres/guardianes con hijos de 0-5 años.\n\nPara i
 nformación sobre la localidad llame a Rosa Cendejas al (541) 604-2031
X-WR-RELCALID:a1c0ec9ae3a61c25be96170398235b42
X-WR-TIMEZONE:America/Los_Angeles
BEGIN:VTIMEZONE
TZID:America/Los_Angeles
BEGIN:STANDARD
TZNAME:PST
DTSTART:20201101T020000
TZOFFSETFROM:-0700
TZOFFSETTO:-0800
RDATE:20211107T020000
RDATE:20221106T020000
END:STANDARD
BEGIN:DAYLIGHT
TZNAME:PDT
DTSTART:20210314T020000
TZOFFSETFROM:-0800
TZOFFSETTO:-0700
RDATE:20220313T020000
END:DAYLIGHT
END:VTIMEZONE
BEGIN:VEVENT
UID:2b0025f2-2e5c-4992-b698-05a42349f5ec
DTSTAMP:20260423T001140Z
DESCRIPTION:GRATIS! Ayudar a nuestros peques en su desarrollo con actividad
 es divertidas!\n\nPara padres/guardianes con hijos de 0-5 años.\n\nPara in
 formación sobre la localidad llame a Rosa Cendejas al (541) 604-2031
DTSTART;TZID=America/Los_Angeles:20210810T120000
DTEND;TZID=America/Los_Angeles:20210810T130000
LOCATION:Parque en Redmond
SUMMARY:Redmond - Vamos al Parque con Teresa y Mayra
END:VEVENT
END:VCALENDAR
