BEGIN:VCALENDAR
VERSION:2.0
PRODID:-//frconline.org//NONSGML kigkonsult.se iCalcreator 2.30.10//
CALSCALE:GREGORIAN
METHOD:PUBLISH
UID:c4008ff7-2c8f-4f03-9e1d-7197300218aa
X-WR-CALDESC:For foster parents of children between the ages of 4-12 years 
 old.\n \nKEEP foster parent support groups provide foster parents a welcom
 e place to share experiences\, get tips and strategies\, and most importan
 tly\, the support that is critical in this frequently stressful parenting 
 role.\n\nEarn training credits & receive a $25 weekly stipend!
X-WR-RELCALID:9d54f26fc2108c4aa22fb0e65264a5bb
X-WR-TIMEZONE:America/Los_Angeles
BEGIN:VTIMEZONE
TZID:America/Los_Angeles
BEGIN:STANDARD
TZNAME:PST
DTSTART:20201101T020000
TZOFFSETFROM:-0700
TZOFFSETTO:-0800
RDATE:20211107T020000
RDATE:20221106T020000
END:STANDARD
BEGIN:DAYLIGHT
TZNAME:PDT
DTSTART:20210314T020000
TZOFFSETFROM:-0800
TZOFFSETTO:-0700
RDATE:20220313T020000
END:DAYLIGHT
END:VTIMEZONE
BEGIN:VEVENT
UID:6ca042c7-6cb5-4697-95a0-5163d93cde23
DTSTAMP:20260423T000657Z
DESCRIPTION:For foster parents of children between the ages of 4-12 years o
 ld.\n \nKEEP foster parent support groups provide foster parents a welcome
  place to share experiences\, get tips and strategies\, and most important
 ly\, the support that is critical in this frequently stressful parenting r
 ole.\n\nEarn training credits & receive a $25 weekly stipend!
DTSTART;TZID=America/Los_Angeles:20210810T100000
DTEND;TZID=America/Los_Angeles:20210810T113000
LOCATION:
SUMMARY:KEEP Standard - Foster Parent Support Group
END:VEVENT
END:VCALENDAR
