BEGIN:VCALENDAR
VERSION:2.0
PRODID:-//frconline.org//NONSGML kigkonsult.se iCalcreator 2.30.10//
CALSCALE:GREGORIAN
METHOD:PUBLISH
UID:011607d9-ef11-492f-b8d1-2d27cacbb143
X-WR-CALDESC:GRATIS! Ayudar a nuestros peques en su desarrollo con activida
 des divertidas!\n\nPara padres/guardianes con hijos de 0-5 años.\n\nPara i
 nformación sobre la localidad llame a Rosa Cendejas al (541) 604-2031
X-WR-RELCALID:d8c80d970d89c427e22b29c01b93fc9e
X-WR-TIMEZONE:America/Los_Angeles
BEGIN:VTIMEZONE
TZID:America/Los_Angeles
BEGIN:STANDARD
TZNAME:PST
DTSTART:20201101T020000
TZOFFSETFROM:-0700
TZOFFSETTO:-0800
RDATE:20211107T020000
RDATE:20221106T020000
END:STANDARD
BEGIN:DAYLIGHT
TZNAME:PDT
DTSTART:20210314T020000
TZOFFSETFROM:-0800
TZOFFSETTO:-0700
RDATE:20220313T020000
END:DAYLIGHT
END:VTIMEZONE
BEGIN:VEVENT
UID:e5b10f99-70a5-446b-8be0-95d0243bac9e
DTSTAMP:20260423T001051Z
DESCRIPTION:GRATIS! Ayudar a nuestros peques en su desarrollo con actividad
 es divertidas!\n\nPara padres/guardianes con hijos de 0-5 años.\n\nPara in
 formación sobre la localidad llame a Rosa Cendejas al (541) 604-2031
DTSTART;TZID=America/Los_Angeles:20210803T100000
DTEND;TZID=America/Los_Angeles:20210803T110000
LOCATION:Parque en Madras
SUMMARY:Madras - Vamos al Parque con Teresa y Mayra
END:VEVENT
END:VCALENDAR
