BEGIN:VCALENDAR
VERSION:2.0
PRODID:-//frconline.org//NONSGML kigkonsult.se iCalcreator 2.30.10//
CALSCALE:GREGORIAN
METHOD:PUBLISH
UID:97bda20b-0f38-4413-8077-b354aed64fa2
X-WR-CALDESC:For foster parents of children between the ages of 4-12 years 
 old.\n \nKEEP foster parent support groups provide foster parents a welcom
 e place to share experiences\, get tips and strategies\, and most importan
 tly\, the support that is critical in this frequently stressful parenting 
 role.\n\nEarn training credits & receive a $25 weekly stipend!
X-WR-RELCALID:2828487aa9308d4d74e9689154131d14
X-WR-TIMEZONE:America/Los_Angeles
BEGIN:VTIMEZONE
TZID:America/Los_Angeles
BEGIN:STANDARD
TZNAME:PST
DTSTART:20201101T020000
TZOFFSETFROM:-0700
TZOFFSETTO:-0800
RDATE:20211107T020000
RDATE:20221106T020000
END:STANDARD
BEGIN:DAYLIGHT
TZNAME:PDT
DTSTART:20210314T020000
TZOFFSETFROM:-0800
TZOFFSETTO:-0700
RDATE:20220313T020000
END:DAYLIGHT
END:VTIMEZONE
BEGIN:VEVENT
UID:dfa9e683-6248-47e6-ab94-0b8d80db601f
DTSTAMP:20260423T000658Z
DESCRIPTION:For foster parents of children between the ages of 4-12 years o
 ld.\n \nKEEP foster parent support groups provide foster parents a welcome
  place to share experiences\, get tips and strategies\, and most important
 ly\, the support that is critical in this frequently stressful parenting r
 ole.\n\nEarn training credits & receive a $25 weekly stipend!
DTSTART;TZID=America/Los_Angeles:20210803T100000
DTEND;TZID=America/Los_Angeles:20210803T113000
LOCATION:
SUMMARY:KEEP Standard - Foster Parent Support Group
END:VEVENT
END:VCALENDAR
