BEGIN:VCALENDAR
VERSION:2.0
PRODID:-//frconline.org//NONSGML kigkonsult.se iCalcreator 2.30.10//
CALSCALE:GREGORIAN
METHOD:PUBLISH
UID:46db7a6f-0764-4340-a70d-65608e2f873a
X-WR-CALDESC:GRATIS! Ayudar a nuestros peques en su desarrollo con activida
 des divertidas!\n\nPara padres/guardianes con hijos de 0-5 años.\n\nPara i
 nformación sobre la localidad llame a Rosa Cendejas al (541) 604-2031
X-WR-RELCALID:af2222428c5972b0c3ccbf59505909ef
X-WR-TIMEZONE:America/Los_Angeles
BEGIN:VTIMEZONE
TZID:America/Los_Angeles
BEGIN:STANDARD
TZNAME:PST
DTSTART:20201101T020000
TZOFFSETFROM:-0700
TZOFFSETTO:-0800
RDATE:20211107T020000
RDATE:20221106T020000
END:STANDARD
BEGIN:DAYLIGHT
TZNAME:PDT
DTSTART:20210314T020000
TZOFFSETFROM:-0800
TZOFFSETTO:-0700
RDATE:20220313T020000
END:DAYLIGHT
END:VTIMEZONE
BEGIN:VEVENT
UID:88af7d20-5064-4171-b190-d3a279cf8551
DTSTAMP:20260423T014440Z
DESCRIPTION:GRATIS! Ayudar a nuestros peques en su desarrollo con actividad
 es divertidas!\n\nPara padres/guardianes con hijos de 0-5 años.\n\nPara in
 formación sobre la localidad llame a Rosa Cendejas al (541) 604-2031
DTSTART;TZID=America/Los_Angeles:20210727T140000
DTEND;TZID=America/Los_Angeles:20210727T150000
LOCATION:Parque en Bend
SUMMARY:Bend - Vamos al Parque con Teresa y Mayra
END:VEVENT
END:VCALENDAR
