BEGIN:VCALENDAR
VERSION:2.0
PRODID:-//frconline.org//NONSGML kigkonsult.se iCalcreator 2.30.10//
CALSCALE:GREGORIAN
METHOD:PUBLISH
UID:7f5cd384-b1b5-4fc0-8a22-e68ad1c18cd5
X-WR-CALDESC:The 1st annual SHOP 4 A CAUSE event supports Central Oregonian
  families with your purchased donations of essential supplies like diapers
 \, wipes\, and infant clothing from Costco. This fun event is an opportuni
 ty to get an errand done and support a family in need\, at the same time! 
 \n\nWhen you register and pledge to purchase $100+ of supplies\, you will 
 enjoy:\n-$10 in Dutch Bros giftcards\n-Over $500 in doorprizes \n-$1 food 
 truck items!\n-First 200 supporters receive a free T-shirt!\n-Free slice o
 f Costco cake\n\nClick on you favorite nonprofit(s)\, click Participate bu
 tton\nForm will appear\, at the top choose your pledge\, $100 or $250 (no 
 payment required)\nBe at Costco July 24th at 7:00 pm and shop! Nonprofit w
 ill supply a list specifically for you + receive $10 in Dutch Bros. gift c
 ards\nWhile shopping\, over $500 door prizes will be announced!\nWhen done
  shopping\, enjoy some Costco cake and $1 food truck items\nFirst 200 supp
 orters receive a free T-shirt!\n\nIf you want to support families in Centr
 al Oregon but you aren't available to shop this Saturday\, you can either 
 send a check to the address below\, or donate through our website and refe
 rence 'What If We Could' in the comment box!\n\nFamily Resource Center of 
 Central Oregon \nPO Box 6005 \nBend\, OR 97708-6005\n\nVisit https://shop4
 acause.us/ to support families in Central Oregon today!
X-WR-RELCALID:83d127b92857c3e7a0108a102ed38c4b
X-WR-TIMEZONE:America/Los_Angeles
BEGIN:VTIMEZONE
TZID:America/Los_Angeles
BEGIN:STANDARD
TZNAME:PST
DTSTART:20201101T020000
TZOFFSETFROM:-0700
TZOFFSETTO:-0800
RDATE:20211107T020000
RDATE:20221106T020000
END:STANDARD
BEGIN:DAYLIGHT
TZNAME:PDT
DTSTART:20210314T020000
TZOFFSETFROM:-0800
TZOFFSETTO:-0700
RDATE:20220313T020000
END:DAYLIGHT
END:VTIMEZONE
BEGIN:VEVENT
UID:e863cc12-9470-45dc-8d53-5c0aa8c12581
DTSTAMP:20260423T054017Z
DESCRIPTION:The 1st annual SHOP 4 A CAUSE event supports Central Oregonian 
 families with your purchased donations of essential supplies like diapers\
 , wipes\, and infant clothing from Costco. This fun event is an opportunit
 y to get an errand done and support a family in need\, at the same time! 
 \n\nWhen you register and pledge to purchase $100+ of supplies\, you will 
 enjoy:\n-$10 in Dutch Bros giftcards\n-Over $500 in doorprizes \n-$1 food 
 truck items!\n-First 200 supporters receive a free T-shirt!\n-Free slice o
 f Costco cake\n\nClick on you favorite nonprofit(s)\, click Participate bu
 tton\nForm will appear\, at the top choose your pledge\, $100 or $250 (no 
 payment required)\nBe at Costco July 24th at 7:00 pm and shop! Nonprofit w
 ill supply a list specifically for you + receive $10 in Dutch Bros. gift c
 ards\nWhile shopping\, over $500 door prizes will be announced!\nWhen done
  shopping\, enjoy some Costco cake and $1 food truck items\nFirst 200 supp
 orters receive a free T-shirt!\n\nIf you want to support families in Centr
 al Oregon but you aren't available to shop this Saturday\, you can either 
 send a check to the address below\, or donate through our website and refe
 rence 'What If We Could' in the comment box!\n\nFamily Resource Center of 
 Central Oregon \nPO Box 6005 \nBend\, OR 97708-6005\n\nVisit https://shop4
 acause.us/ to support families in Central Oregon today!
DTSTART;TZID=America/Los_Angeles:20210724T190000
DTEND;TZID=America/Los_Angeles:20210724T203000
LOCATION:Costco - Bend\, 2500 NE Highway 20\, Bend\, OR 97701 US
SUMMARY:Shop 4 A Cause @ Costco
END:VEVENT
END:VCALENDAR
