BEGIN:VCALENDAR
VERSION:2.0
PRODID:-//frconline.org//NONSGML kigkonsult.se iCalcreator 2.30.10//
CALSCALE:GREGORIAN
METHOD:PUBLISH
UID:97c468ca-cc0e-4b94-8bbf-8f04958cf683
X-WR-CALDESC:For families with children ages birth to 8-years old. This 12 
 week group focuses on building positive relationships with your children:
 \n\n*Discover how to manage stress in healthy ways\n*Learn the latest idea
 s about child development\n*Build your toolkit for positive discipline\n*G
 row your support network with other parents
X-WR-RELCALID:741201dd7d1dc60e0af0ab81ab21c0d5
X-WR-TIMEZONE:America/Los_Angeles
BEGIN:VTIMEZONE
TZID:America/Los_Angeles
BEGIN:STANDARD
TZNAME:PST
DTSTART:20201101T020000
TZOFFSETFROM:-0700
TZOFFSETTO:-0800
RDATE:20211107T020000
RDATE:20221106T020000
END:STANDARD
BEGIN:DAYLIGHT
TZNAME:PDT
DTSTART:20210314T020000
TZOFFSETFROM:-0800
TZOFFSETTO:-0700
RDATE:20220313T020000
END:DAYLIGHT
END:VTIMEZONE
BEGIN:VEVENT
UID:dada0e45-88a8-4bd7-a5d6-73c84b71b517
DTSTAMP:20260423T032233Z
DESCRIPTION:For families with children ages birth to 8-years old. This 12 w
 eek group focuses on building positive relationships with your children:\n
 \n*Discover how to manage stress in healthy ways\n*Learn the latest ideas 
 about child development\n*Build your toolkit for positive discipline\n*Gro
 w your support network with other parents
DTSTART;TZID=America/Los_Angeles:20210621T180000
DTEND;TZID=America/Los_Angeles:20210621T193000
LOCATION:Via Zoom
SUMMARY:Make Parenting a Pleasure
END:VEVENT
END:VCALENDAR
