BEGIN:VCALENDAR
VERSION:2.0
PRODID:-//frconline.org//NONSGML kigkonsult.se iCalcreator 2.30.10//
CALSCALE:GREGORIAN
METHOD:PUBLISH
UID:50d05909-d877-4ab1-b6c4-40f87c928d5d
X-WR-CALDESC:Grupo de 7 semanas perfecto para familias con estudiantes de c
 uarto a séptimo grado.                                                    
                                                                      \n\nC
 ada semana las familias se van a unir en Zoom y también van a recibir una 
 caja en el correo con materiales y instrucciones a como participar en las 
 lecciones y retos semanales. Las cajas incluyen juegos familiares\, divers
 ión para la familia\, recetas y artículos de artesanía.  \n ¡Incentivos se
 manales de asistencia y participación! \nAcceso al grupo cerrado de Facebo
 ok.
X-WR-RELCALID:40d4ad533681708be2d59bc133647fdf
X-WR-TIMEZONE:America/Los_Angeles
BEGIN:VTIMEZONE
TZID:America/Los_Angeles
BEGIN:STANDARD
TZNAME:PST
DTSTART:20201101T020000
TZOFFSETFROM:-0700
TZOFFSETTO:-0800
RDATE:20211107T020000
RDATE:20221106T020000
END:STANDARD
BEGIN:DAYLIGHT
TZNAME:PDT
DTSTART:20210314T020000
TZOFFSETFROM:-0800
TZOFFSETTO:-0700
RDATE:20220313T020000
END:DAYLIGHT
END:VTIMEZONE
BEGIN:VEVENT
UID:e23dd334-6d75-4713-831d-f16539f4605e
DTSTAMP:20260423T051451Z
DESCRIPTION:Grupo de 7 semanas perfecto para familias con estudiantes de cu
 arto a séptimo grado.                                                     
                                                                     \n\nCa
 da semana las familias se van a unir en Zoom y también van a recibir una c
 aja en el correo con materiales y instrucciones a como participar en las l
 ecciones y retos semanales. Las cajas incluyen juegos familiares\, diversi
 ón para la familia\, recetas y artículos de artesanía.  \n ¡Incentivos sem
 anales de asistencia y participación! \nAcceso al grupo cerrado de Faceboo
 k.
DTSTART;TZID=America/Los_Angeles:20210519T173000
DTEND;TZID=America/Los_Angeles:20210519T183000
LOCATION:Via Zoom
SUMMARY:Fortalece el desafío de tu familia
END:VEVENT
END:VCALENDAR
