BEGIN:VCALENDAR
VERSION:2.0
PRODID:-//frconline.org//NONSGML kigkonsult.se iCalcreator 2.30.10//
CALSCALE:GREGORIAN
METHOD:PUBLISH
UID:6236df25-a0af-441b-ad6e-092c7219505f
X-WR-CALDESC:For families with youth ages 10-17 years old! Learn what's goi
 ng on in your teen's brain\, and how strengthen your family relationships.
X-WR-RELCALID:cedf27337e11ab2296aad5f6dca430b5
X-WR-TIMEZONE:America/Los_Angeles
BEGIN:VTIMEZONE
TZID:America/Los_Angeles
BEGIN:STANDARD
TZNAME:PST
DTSTART:20201101T020000
TZOFFSETFROM:-0700
TZOFFSETTO:-0800
RDATE:20211107T020000
RDATE:20221106T020000
END:STANDARD
BEGIN:DAYLIGHT
TZNAME:PDT
DTSTART:20210314T020000
TZOFFSETFROM:-0800
TZOFFSETTO:-0700
RDATE:20220313T020000
END:DAYLIGHT
END:VTIMEZONE
BEGIN:VEVENT
UID:7d466d45-3da5-457a-b50f-934581f9b4f8
DTSTAMP:20260423T050451Z
DESCRIPTION:For families with youth ages 10-17 years old! Learn what's goin
 g on in your teen's brain\, and how strengthen your family relationships.
DTSTART;TZID=America/Los_Angeles:20210517T180000
DTEND;TZID=America/Los_Angeles:20210517T200000
LOCATION:Via Zoom
SUMMARY:Active Parenting of Teens
END:VEVENT
END:VCALENDAR
