BEGIN:VCALENDAR
VERSION:2.0
PRODID:-//frconline.org//NONSGML kigkonsult.se iCalcreator 2.30.10//
CALSCALE:GREGORIAN
METHOD:PUBLISH
UID:b6f43f43-d0a1-4c4f-b2a9-da44e53783f1
X-WR-CALDESC:For families with youth ages 10-17 years old! Learn what's goi
 ng on in your teen's brain\, and how strengthen your family relationships.
X-WR-RELCALID:edc673610f2db0d509d3b18faabf7e64
X-WR-TIMEZONE:America/Los_Angeles
BEGIN:VTIMEZONE
TZID:America/Los_Angeles
BEGIN:STANDARD
TZNAME:PST
DTSTART:20201101T020000
TZOFFSETFROM:-0700
TZOFFSETTO:-0800
RDATE:20211107T020000
RDATE:20221106T020000
END:STANDARD
BEGIN:DAYLIGHT
TZNAME:PDT
DTSTART:20210314T020000
TZOFFSETFROM:-0800
TZOFFSETTO:-0700
RDATE:20220313T020000
END:DAYLIGHT
END:VTIMEZONE
BEGIN:VEVENT
UID:8d8fbeb2-74d1-44b8-a665-d31aed887bc7
DTSTAMP:20260423T050308Z
DESCRIPTION:For families with youth ages 10-17 years old! Learn what's goin
 g on in your teen's brain\, and how strengthen your family relationships.
DTSTART;TZID=America/Los_Angeles:20210510T180000
DTEND;TZID=America/Los_Angeles:20210510T200000
LOCATION:Via Zoom
SUMMARY:Active Parenting of Teens
END:VEVENT
END:VCALENDAR
