BEGIN:VCALENDAR
VERSION:2.0
PRODID:-//frconline.org//NONSGML kigkonsult.se iCalcreator 2.30.10//
CALSCALE:GREGORIAN
METHOD:PUBLISH
UID:7b19310c-c399-4863-a294-c6d558a7fc3d
X-WR-CALDESC:For families with youth ages 10-17 years old! Learn what's goi
 ng on in your teen's brain\, and how strengthen your family relationships.
X-WR-RELCALID:42e4737d4cc6781d99af6e0554303bb9
X-WR-TIMEZONE:America/Los_Angeles
BEGIN:VTIMEZONE
TZID:America/Los_Angeles
BEGIN:STANDARD
TZNAME:PST
DTSTART:20201101T020000
TZOFFSETFROM:-0700
TZOFFSETTO:-0800
RDATE:20211107T020000
END:STANDARD
BEGIN:DAYLIGHT
TZNAME:PDT
DTSTART:20210314T020000
TZOFFSETFROM:-0800
TZOFFSETTO:-0700
RDATE:20220313T020000
END:DAYLIGHT
END:VTIMEZONE
BEGIN:VEVENT
UID:35df1aef-9f39-4466-b9db-72710c893029
DTSTAMP:20260423T050348Z
DESCRIPTION:For families with youth ages 10-17 years old! Learn what's goin
 g on in your teen's brain\, and how strengthen your family relationships.
DTSTART;TZID=America/Los_Angeles:20210503T180000
DTEND;TZID=America/Los_Angeles:20210503T200000
LOCATION:Via Zoom
SUMMARY:Active Parenting of Teens
END:VEVENT
END:VCALENDAR
