BEGIN:VCALENDAR
VERSION:2.0
PRODID:-//frconline.org//NONSGML kigkonsult.se iCalcreator 2.30.10//
CALSCALE:GREGORIAN
METHOD:PUBLISH
UID:38cc38aa-623f-4bff-a7ac-7f0abec97f4a
X-WR-CALDESC:For families with youth ages 10-17 years old! Learn what's goi
 ng on in your teen's brain\, and how strengthen your family relationships.
X-WR-RELCALID:7774abc8a16facb0fb458b3a076a1e5e
X-WR-TIMEZONE:America/Los_Angeles
BEGIN:VTIMEZONE
TZID:America/Los_Angeles
BEGIN:STANDARD
TZNAME:PST
DTSTART:20201101T020000
TZOFFSETFROM:-0700
TZOFFSETTO:-0800
RDATE:20211107T020000
END:STANDARD
BEGIN:DAYLIGHT
TZNAME:PDT
DTSTART:20210314T020000
TZOFFSETFROM:-0800
TZOFFSETTO:-0700
RDATE:20220313T020000
END:DAYLIGHT
END:VTIMEZONE
BEGIN:VEVENT
UID:f1487380-4e60-4745-b24c-677ebc374969
DTSTAMP:20260423T063607Z
DESCRIPTION:For families with youth ages 10-17 years old! Learn what's goin
 g on in your teen's brain\, and how strengthen your family relationships.
DTSTART;TZID=America/Los_Angeles:20210426T180000
DTEND;TZID=America/Los_Angeles:20210426T200000
LOCATION:Via Zoom
SUMMARY:Active Parenting of Teens
END:VEVENT
END:VCALENDAR
