BEGIN:VCALENDAR
VERSION:2.0
PRODID:-//frconline.org//NONSGML kigkonsult.se iCalcreator 2.30.10//
CALSCALE:GREGORIAN
METHOD:PUBLISH
UID:a62b4f77-e99c-4e29-9fef-8fdb9e3c68d5
X-WR-CALDESC:3 Talleres de Paternidad en Desarollo\, Disciplina y Temperame
 ntos de los niños. \n\nPara padres con niños de 0-5 años\nCuesta: Gratis $
 \nCuando: 11\, 18 y 25 de Marzo del 2021\nDonde: Virtual via Zoom\nHorario
 : de 11:00 a 12:30pm
X-WR-RELCALID:6aa22079ef0c6d885d78d22b9e11d4d0
X-WR-TIMEZONE:America/Los_Angeles
BEGIN:VTIMEZONE
TZID:America/Los_Angeles
BEGIN:STANDARD
TZNAME:PST
DTSTART:20201101T020000
TZOFFSETFROM:-0700
TZOFFSETTO:-0800
RDATE:20211107T020000
END:STANDARD
BEGIN:DAYLIGHT
TZNAME:PDT
DTSTART:20210314T020000
TZOFFSETFROM:-0800
TZOFFSETTO:-0700
RDATE:20220313T020000
END:DAYLIGHT
END:VTIMEZONE
BEGIN:VEVENT
UID:a212b3e8-6d8c-49d1-80c3-83f55323ad4d
DTSTAMP:20260423T081002Z
DESCRIPTION:3 Talleres de Paternidad en Desarollo\, Disciplina y Temperamen
 tos de los niños. \n\nPara padres con niños de 0-5 años\nCuesta: Gratis $
 \nCuando: 11\, 18 y 25 de Marzo del 2021\nDonde: Virtual via Zoom\nHorario
 : de 11:00 a 12:30pm
DTSTART;TZID=America/Los_Angeles:20210325T110000
DTEND;TZID=America/Los_Angeles:20210325T123000
LOCATION:Virtual via Zoom
SUMMARY:Construir\, Fortalecer y Conectar
END:VEVENT
END:VCALENDAR
