BEGIN:VCALENDAR
VERSION:2.0
PRODID:-//frconline.org//NONSGML kigkonsult.se iCalcreator 2.30.10//
CALSCALE:GREGORIAN
METHOD:PUBLISH
UID:285886fd-18ab-4a53-9d29-c8fe1235574e
X-WR-CALDESC:Talleres para  familias  con  jóvenes de 10-17 años. Reunáse c
 on otros padres para actualizar o aprender nuevas herramientas de paternid
 ad y juntos aprender como apollar a su adolescentes. Incluye  libro de tra
 bajo.\n\nCosto: $Gratis\n
X-WR-RELCALID:f0131afad5965a4abb585f2ef8044114
X-WR-TIMEZONE:America/Los_Angeles
BEGIN:VTIMEZONE
TZID:America/Los_Angeles
BEGIN:STANDARD
TZNAME:PST
DTSTART:20201101T020000
TZOFFSETFROM:-0700
TZOFFSETTO:-0800
RDATE:20211107T020000
END:STANDARD
BEGIN:DAYLIGHT
TZNAME:PDT
DTSTART:20210314T020000
TZOFFSETFROM:-0800
TZOFFSETTO:-0700
RDATE:20220313T020000
END:DAYLIGHT
END:VTIMEZONE
BEGIN:VEVENT
UID:030d00a2-2ece-4457-a2b2-62d5be80b674
DTSTAMP:20260423T081113Z
DESCRIPTION:Talleres para  familias  con  jóvenes de 10-17 años. Reunáse co
 n otros padres para actualizar o aprender nuevas herramientas de paternida
 d y juntos aprender como apollar a su adolescentes. Incluye  libro de trab
 ajo.\n\nCosto: $Gratis\n
DTSTART;TZID=America/Los_Angeles:20210312T163000
DTEND;TZID=America/Los_Angeles:20210312T183000
LOCATION:Via Zoom
SUMMARY:Padres Activos de Adolescentes
END:VEVENT
END:VCALENDAR
