BEGIN:VCALENDAR
VERSION:2.0
PRODID:-//frconline.org//NONSGML kigkonsult.se iCalcreator 2.30.10//
CALSCALE:GREGORIAN
METHOD:PUBLISH
UID:0a4b569b-49a2-4279-b856-85a4c99e428e
X-WR-CALDESC:KEEP es un grupo de apoyo\, no una clase! Ofrecemos herramient
 as para padres basadas en evidencia que puede usar hoy!\n\nUsted recibirá 
 un cheque de $25 semanalmente por cada sesión que asista virtualmente\nMás
  de 24 horas de entrenamiento por padre para su certificación con DHS7-12 
 padres foster/familiares y dos lideres entrenadas en grupos\n16 semanas po
 r 90-minutos cada sesión\n\nQuién es elegible?\nTodos los padres  de crian
 za certificados o no con-DHS familias Kinship \nTiene que tener por lo men
 os un niño de crianza actual con edades entre 4-12 años
X-WR-RELCALID:375f6c573f8c8b160363415a87998a9b
X-WR-TIMEZONE:America/Los_Angeles
BEGIN:VTIMEZONE
TZID:America/Los_Angeles
BEGIN:STANDARD
TZNAME:PST
DTSTART:20201101T020000
TZOFFSETFROM:-0700
TZOFFSETTO:-0800
RDATE:20211107T020000
END:STANDARD
BEGIN:DAYLIGHT
TZNAME:PDT
DTSTART:20200308T020000
TZOFFSETFROM:-0800
TZOFFSETTO:-0700
RDATE:20210314T020000
RDATE:20220313T020000
END:DAYLIGHT
END:VTIMEZONE
BEGIN:VEVENT
UID:ceef8da7-c203-47d7-ae4b-59ce9b181623
DTSTAMP:20260423T095440Z
DESCRIPTION:KEEP es un grupo de apoyo\, no una clase! Ofrecemos herramienta
 s para padres basadas en evidencia que puede usar hoy!\n\nUsted recibirá u
 n cheque de $25 semanalmente por cada sesión que asista virtualmente\nMás 
 de 24 horas de entrenamiento por padre para su certificación con DHS7-12 p
 adres foster/familiares y dos lideres entrenadas en grupos\n16 semanas por
  90-minutos cada sesión\n\nQuién es elegible?\nTodos los padres  de crianz
 a certificados o no con-DHS familias Kinship \nTiene que tener por lo meno
 s un niño de crianza actual con edades entre 4-12 años
DTSTART;TZID=America/Los_Angeles:20210222T170000
DTEND;TZID=America/Los_Angeles:20210222T183000
LOCATION:Via Zoom
SUMMARY:KEEP Standard: Grupos de apoyo virtuales para padres de crianza
END:VEVENT
END:VCALENDAR
