BEGIN:VCALENDAR
VERSION:2.0
PRODID:-//frconline.org//NONSGML kigkonsult.se iCalcreator 2.30.10//
CALSCALE:GREGORIAN
METHOD:PUBLISH
UID:32d84a6e-01e4-4b83-88c6-9a6ccd5b18e5
X-WR-CALDESC:Identify your strengths as a parent\, take better care of your
 self and discover new ways to make parenting easier. Develop a better unde
 rstanding of your child’s behavior and learn positive discipline and commu
 nication strategies. This class will help you have less stress and more fu
 n as a parent and gain a feeling of competence in parenting.\n\nFor parent
 s with children: 0-5 years old\n12 Weeks\nLanguages: English\, Coming soon
  in Spanish\nFulfills mandated client requirement\nCost: $Free\n
X-WR-RELCALID:a5275b483743faae5c1034b47eff5998
X-WR-TIMEZONE:America/Los_Angeles
BEGIN:VTIMEZONE
TZID:America/Los_Angeles
BEGIN:STANDARD
TZNAME:PST
DTSTART:20201101T020000
TZOFFSETFROM:-0700
TZOFFSETTO:-0800
RDATE:20211107T020000
END:STANDARD
BEGIN:DAYLIGHT
TZNAME:PDT
DTSTART:20200308T020000
TZOFFSETFROM:-0800
TZOFFSETTO:-0700
RDATE:20210314T020000
RDATE:20220313T020000
END:DAYLIGHT
END:VTIMEZONE
BEGIN:VEVENT
UID:3e8b5bce-9bb7-48b2-9223-dbeca9ca9f4d
DTSTAMP:20260423T094752Z
DESCRIPTION:Identify your strengths as a parent\, take better care of yours
 elf and discover new ways to make parenting easier. Develop a better under
 standing of your child’s behavior and learn positive discipline and commun
 ication strategies. This class will help you have less stress and more fun
  as a parent and gain a feeling of competence in parenting.\n\nFor parents
  with children: 0-5 years old\n12 Weeks\nLanguages: English\, Coming soon 
 in Spanish\nFulfills mandated client requirement\nCost: $Free\n
DTSTART;TZID=America/Los_Angeles:20210217T100000
DTEND;TZID=America/Los_Angeles:20210217T110000
LOCATION:Virtual-Interactive
SUMMARY:Focus on Parenting – Birth to Preschool
END:VEVENT
END:VCALENDAR
