BEGIN:VCALENDAR
VERSION:2.0
PRODID:-//frconline.org//NONSGML kigkonsult.se iCalcreator 2.30.10//
CALSCALE:GREGORIAN
METHOD:PUBLISH
UID:1fa6aae5-6cc9-4cbd-867d-bc2c9882a27c
X-WR-CALDESC:Join Lindsey Kealey\, the author of PAWsitive Choices Social &
  Emotional Learning\, in this 4-part Zoom webinar series to explore practi
 cal ways to help children thrive. Learn fun & effective ways to help child
 ren:\n\nSolve problems\nRegulate emotions\nMake positive choices\nUse calm
 ing strategies\nAnd more!\n
X-WR-RELCALID:c4977579aa91f0cba5e796caf5f07d34
X-WR-TIMEZONE:America/Los_Angeles
BEGIN:VTIMEZONE
TZID:America/Los_Angeles
BEGIN:STANDARD
TZNAME:PST
DTSTART:20191103T020000
TZOFFSETFROM:-0700
TZOFFSETTO:-0800
RDATE:20201101T020000
RDATE:20211107T020000
END:STANDARD
BEGIN:DAYLIGHT
TZNAME:PDT
DTSTART:20200308T020000
TZOFFSETFROM:-0800
TZOFFSETTO:-0700
RDATE:20210314T020000
RDATE:20220313T020000
END:DAYLIGHT
END:VTIMEZONE
BEGIN:VEVENT
UID:d8a9b887-120d-48d3-90ea-d734aa593cf5
DTSTAMP:20260423T162857Z
DESCRIPTION:Join Lindsey Kealey\, the author of PAWsitive Choices Social & 
 Emotional Learning\, in this 4-part Zoom webinar series to explore practic
 al ways to help children thrive. Learn fun & effective ways to help childr
 en:\n\nSolve problems\nRegulate emotions\nMake positive choices\nUse calmi
 ng strategies\nAnd more!\n
DTSTART;TZID=America/Los_Angeles:20201014T180000
DTEND;TZID=America/Los_Angeles:20201014T190000
LOCATION:
SUMMARY:The Power of Positive Connection
END:VEVENT
END:VCALENDAR
