BEGIN:VCALENDAR
VERSION:2.0
PRODID:-//frconline.org//NONSGML kigkonsult.se iCalcreator 2.30.10//
CALSCALE:GREGORIAN
METHOD:PUBLISH
UID:32209421-24a0-424c-8958-0d33e769a230
X-WR-CALDESC:Join Lindsey Kealey\, the author of PAWsitive Choices Social &
  Emotional Learning\, in this 4-part Zoom webinar series to explore practi
 cal ways to help children thrive. Learn fun & effective ways to help child
 ren:\n\nSolve problems\nRegulate emotions\nMake positive choices\nUse calm
 ing strategies\nAnd more!\n
X-WR-RELCALID:9b1438f6d42d2049a7c4e7352bc77826
X-WR-TIMEZONE:America/Los_Angeles
BEGIN:VTIMEZONE
TZID:America/Los_Angeles
BEGIN:STANDARD
TZNAME:PST
DTSTART:20191103T020000
TZOFFSETFROM:-0700
TZOFFSETTO:-0800
RDATE:20201101T020000
RDATE:20211107T020000
END:STANDARD
BEGIN:DAYLIGHT
TZNAME:PDT
DTSTART:20200308T020000
TZOFFSETFROM:-0800
TZOFFSETTO:-0700
RDATE:20210314T020000
RDATE:20220313T020000
END:DAYLIGHT
END:VTIMEZONE
BEGIN:VEVENT
UID:04be123a-9104-4783-a28c-c1a67a14370a
DTSTAMP:20260423T180253Z
DESCRIPTION:Join Lindsey Kealey\, the author of PAWsitive Choices Social & 
 Emotional Learning\, in this 4-part Zoom webinar series to explore practic
 al ways to help children thrive. Learn fun & effective ways to help childr
 en:\n\nSolve problems\nRegulate emotions\nMake positive choices\nUse calmi
 ng strategies\nAnd more!\n
DTSTART;TZID=America/Los_Angeles:20200930T180000
DTEND;TZID=America/Los_Angeles:20200930T190000
LOCATION:
SUMMARY:The Power of Positive Connection
END:VEVENT
END:VCALENDAR
