BEGIN:VCALENDAR
VERSION:2.0
PRODID:-//frconline.org//NONSGML kigkonsult.se iCalcreator 2.30.10//
CALSCALE:GREGORIAN
METHOD:PUBLISH
UID:33c5ea19-8162-4ae0-a973-16a1bf83c38e
X-WR-CALDESC:Offered for families and caregivers in Crook and Jefferson Cou
 nty referred to parenting classes by other agencies.
X-WR-RELCALID:ca341c4c380530820ec3a60cdd559f13
X-WR-TIMEZONE:America/Los_Angeles
BEGIN:VTIMEZONE
TZID:America/Los_Angeles
BEGIN:STANDARD
TZNAME:PST
DTSTART:20191103T020000
TZOFFSETFROM:-0700
TZOFFSETTO:-0800
RDATE:20201101T020000
RDATE:20211107T020000
END:STANDARD
BEGIN:DAYLIGHT
TZNAME:PDT
DTSTART:20200308T020000
TZOFFSETFROM:-0800
TZOFFSETTO:-0700
RDATE:20210314T020000
END:DAYLIGHT
END:VTIMEZONE
BEGIN:VEVENT
UID:5315d269-aa43-4ce2-bdf7-5060ab3a279e
DTSTAMP:20260423T230916Z
DESCRIPTION:Offered for families and caregivers in Crook and Jefferson Coun
 ty referred to parenting classes by other agencies.
DTSTART;TZID=America/Los_Angeles:20200615T173000
DTEND;TZID=America/Los_Angeles:20200615T193000
LOCATION:Online Webinar
SUMMARY:Parenting Today
END:VEVENT
END:VCALENDAR
