BEGIN:VCALENDAR
VERSION:2.0
PRODID:-//frconline.org//NONSGML kigkonsult.se iCalcreator 2.30.10//
CALSCALE:GREGORIAN
METHOD:PUBLISH
UID:f8e8873a-6adc-4b92-93f5-cd6fbb3300f5
X-WR-CALDESC:Offered for families and caregivers in Crook and Jefferson Cou
 nty referred to parenting classes by other agencies.
X-WR-RELCALID:6019fbe5442b99b80d55faaf4bc85f48
X-WR-TIMEZONE:America/Los_Angeles
BEGIN:VTIMEZONE
TZID:America/Los_Angeles
BEGIN:STANDARD
TZNAME:PST
DTSTART:20191103T020000
TZOFFSETFROM:-0700
TZOFFSETTO:-0800
RDATE:20201101T020000
RDATE:20211107T020000
END:STANDARD
BEGIN:DAYLIGHT
TZNAME:PDT
DTSTART:20200308T020000
TZOFFSETFROM:-0800
TZOFFSETTO:-0700
RDATE:20210314T020000
END:DAYLIGHT
END:VTIMEZONE
BEGIN:VEVENT
UID:930221e0-eec2-49e8-9ab9-366ebc77ac06
DTSTAMP:20260423T231535Z
DESCRIPTION:Offered for families and caregivers in Crook and Jefferson Coun
 ty referred to parenting classes by other agencies.
DTSTART;TZID=America/Los_Angeles:20200608T173000
DTEND;TZID=America/Los_Angeles:20200608T193000
LOCATION:Online Webinar
SUMMARY:Parenting Today
END:VEVENT
END:VCALENDAR
