BEGIN:VCALENDAR
VERSION:2.0
PRODID:-//frconline.org//NONSGML kigkonsult.se iCalcreator 2.30.10//
CALSCALE:GREGORIAN
METHOD:PUBLISH
UID:0060a494-e8ab-4f17-b499-48f75ef0d9e5
X-WR-CALDESC:A program for parents in Deschutes County experiencing family 
 restructuring\, such as separation or divorce.\n\nDates: \nFirst Tuesday o
 f the month 5:30 - 9:30 p.m.\nFirst Thursday of the month 8:00 a.m. -  12:
 00 p.m.\n\nCost: $70.00 per person (Includes $20.00 materials fee that can
 not be waived)\n\nTo register call (541) 389-5468 with your case number.
X-WR-RELCALID:0105d466ccc7420d55eae30ced6d4785
X-WR-TIMEZONE:America/Los_Angeles
BEGIN:VTIMEZONE
TZID:America/Los_Angeles
BEGIN:STANDARD
TZNAME:PST
DTSTART:20191103T020000
TZOFFSETFROM:-0700
TZOFFSETTO:-0800
RDATE:20201101T020000
RDATE:20211107T020000
END:STANDARD
BEGIN:DAYLIGHT
TZNAME:PDT
DTSTART:20200308T020000
TZOFFSETFROM:-0800
TZOFFSETTO:-0700
RDATE:20210314T020000
END:DAYLIGHT
END:VTIMEZONE
BEGIN:VEVENT
UID:d89fd307-f5e1-4f52-bea1-414f80c8d161
DTSTAMP:20260423T232357Z
DESCRIPTION:A program for parents in Deschutes County experiencing family r
 estructuring\, such as separation or divorce.\n\nDates: \nFirst Tuesday of
  the month 5:30 - 9:30 p.m.\nFirst Thursday of the month 8:00 a.m. -  12:0
 0 p.m.\n\nCost: $70.00 per person (Includes $20.00 materials fee that cann
 ot be waived)\n\nTo register call (541) 389-5468 with your case number.
DTSTART;TZID=America/Los_Angeles:20200602T173000
DTEND;TZID=America/Los_Angeles:20200602T213000
LOCATION:Via Zoom
SUMMARY:Family Law Education Program
END:VEVENT
END:VCALENDAR
