BEGIN:VCALENDAR
VERSION:2.0
PRODID:-//frconline.org//NONSGML kigkonsult.se iCalcreator 2.30.10//
CALSCALE:GREGORIAN
METHOD:PUBLISH
UID:6524d20d-d40c-4901-b379-d29beb1451d6
X-WR-CALDESC:Offered for families and caregivers in Crook and Jefferson Cou
 nty referred to parenting classes by other agencies.
X-WR-RELCALID:2af3afccbde4588d5182d7caf2487a16
X-WR-TIMEZONE:America/Los_Angeles
BEGIN:VTIMEZONE
TZID:America/Los_Angeles
BEGIN:STANDARD
TZNAME:PST
DTSTART:20191103T020000
TZOFFSETFROM:-0700
TZOFFSETTO:-0800
RDATE:20201101T020000
END:STANDARD
BEGIN:DAYLIGHT
TZNAME:PDT
DTSTART:20200308T020000
TZOFFSETFROM:-0800
TZOFFSETTO:-0700
RDATE:20210314T020000
END:DAYLIGHT
END:VTIMEZONE
BEGIN:VEVENT
UID:12d488ee-45ca-4356-91fd-2a1b66b6c0e3
DTSTAMP:20260424T021317Z
DESCRIPTION:Offered for families and caregivers in Crook and Jefferson Coun
 ty referred to parenting classes by other agencies.
DTSTART;TZID=America/Los_Angeles:20200413T173000
DTEND;TZID=America/Los_Angeles:20200413T193000
LOCATION:Online Webinar
SUMMARY:Parenting Today
END:VEVENT
END:VCALENDAR
