BEGIN:VCALENDAR
VERSION:2.0
PRODID:-//frconline.org//NONSGML kigkonsult.se iCalcreator 2.30.10//
CALSCALE:GREGORIAN
METHOD:PUBLISH
UID:c8e049d5-6e98-4533-973b-14253f58ca8d
X-WR-CALDESC:10-weekly sessions for parents\, grandparents and care provide
 rs of children 0-8 years Join us and talk with other parents to discover w
 ays to reduce stress\, find positive ways to discipline and help your chil
 dren succeed in school.\n\n
X-WR-RELCALID:a9a73673ac8361b715b48b18e77d6503
X-WR-TIMEZONE:America/Los_Angeles
BEGIN:VTIMEZONE
TZID:America/Los_Angeles
BEGIN:STANDARD
TZNAME:PST
DTSTART:20191103T020000
TZOFFSETFROM:-0700
TZOFFSETTO:-0800
RDATE:20201101T020000
END:STANDARD
BEGIN:DAYLIGHT
TZNAME:PDT
DTSTART:20200308T020000
TZOFFSETFROM:-0800
TZOFFSETTO:-0700
RDATE:20210314T020000
END:DAYLIGHT
END:VTIMEZONE
BEGIN:VEVENT
UID:ad774e52-0482-4c93-b36e-e420a3edc691
DTSTAMP:20260424T021746Z
DESCRIPTION:10-weekly sessions for parents\, grandparents and care provider
 s of children 0-8 years Join us and talk with other parents to discover wa
 ys to reduce stress\, find positive ways to discipline and help your child
 ren succeed in school.\n\n
DTSTART;TZID=America/Los_Angeles:20200408T173000
DTEND;TZID=America/Los_Angeles:20200408T193000
LOCATION:Bend
SUMMARY:Make Parenting A Pleasure
END:VEVENT
END:VCALENDAR
