BEGIN:VCALENDAR
VERSION:2.0
PRODID:-//frconline.org//NONSGML kigkonsult.se iCalcreator 2.30.10//
CALSCALE:GREGORIAN
METHOD:PUBLISH
UID:556a6490-011b-4567-85eb-24347a905723
X-WR-CALDESC:For families and caregivers in Crook County referred to parent
 ing classes by other agencies.
X-WR-RELCALID:fe9cb167f981f907b513ba1225b5e898
X-WR-TIMEZONE:America/Los_Angeles
BEGIN:VTIMEZONE
TZID:America/Los_Angeles
BEGIN:STANDARD
TZNAME:PST
DTSTART:20191103T020000
TZOFFSETFROM:-0700
TZOFFSETTO:-0800
RDATE:20201101T020000
END:STANDARD
BEGIN:DAYLIGHT
TZNAME:PDT
DTSTART:20200308T020000
TZOFFSETFROM:-0800
TZOFFSETTO:-0700
RDATE:20210314T020000
END:DAYLIGHT
END:VTIMEZONE
BEGIN:VEVENT
UID:249ef45c-5a9e-48f3-a431-5512d769730e
DTSTAMP:20260424T034834Z
DESCRIPTION:For families and caregivers in Crook County referred to parenti
 ng classes by other agencies.
DTSTART;TZID=America/Los_Angeles:20200330T173000
DTEND;TZID=America/Los_Angeles:20200330T193000
LOCATION:Prineville
SUMMARY:Parenting Today
END:VEVENT
END:VCALENDAR
