BEGIN:VCALENDAR
VERSION:2.0
PRODID:-//frconline.org//NONSGML kigkonsult.se iCalcreator 2.30.10//
CALSCALE:GREGORIAN
METHOD:PUBLISH
UID:2d89d6d7-2959-4b00-9046-705fe477c28a
X-WR-CALDESC:Hable con otros padres\, reduzca el estrés\, disfrute criando 
 hijos.\n\nEncuentre maneras positivas de disciplinar y ayudar a sus hijos 
 a tener\néxito en la escuela.\n\nSesiones de 10 semanas para padres con ni
 ños desde recién nacidos hasta los\n8 años.
X-WR-RELCALID:5260c6e22b7f4212fb885be30d918cc7
X-WR-TIMEZONE:America/Los_Angeles
BEGIN:VTIMEZONE
TZID:America/Los_Angeles
BEGIN:STANDARD
TZNAME:PST
DTSTART:20191103T020000
TZOFFSETFROM:-0700
TZOFFSETTO:-0800
RDATE:20201101T020000
END:STANDARD
BEGIN:DAYLIGHT
TZNAME:PDT
DTSTART:20190310T020000
TZOFFSETFROM:-0800
TZOFFSETTO:-0700
RDATE:20200308T020000
RDATE:20210314T020000
END:DAYLIGHT
END:VTIMEZONE
BEGIN:VEVENT
UID:92c4d9ae-98f7-40ca-9102-b58316f96bfd
DTSTAMP:20260424T054111Z
DESCRIPTION:Hable con otros padres\, reduzca el estrés\, disfrute criando h
 ijos.\n\nEncuentre maneras positivas de disciplinar y ayudar a sus hijos a
  tener\néxito en la escuela.\n\nSesiones de 10 semanas para padres con niñ
 os desde recién nacidos hasta los\n8 años.
DTSTART;TZID=America/Los_Angeles:20200226T173000
DTEND;TZID=America/Los_Angeles:20200226T193000
LOCATION:Bend
SUMMARY:Que la Crianza de sus Hijos sea un placer
END:VEVENT
END:VCALENDAR
