BEGIN:VCALENDAR
VERSION:2.0
PRODID:-//frconline.org//NONSGML kigkonsult.se iCalcreator 2.30.10//
CALSCALE:GREGORIAN
METHOD:PUBLISH
UID:0368d450-2496-4f70-a107-f4cc85e55da9
X-WR-CALDESC:Construir y fortalecer conexiones \nDiviértete aprendiendo jun
 tos
X-WR-RELCALID:267256b1768bc2441ef6f7cde8d436f0
X-WR-TIMEZONE:America/Los_Angeles
BEGIN:VTIMEZONE
TZID:America/Los_Angeles
BEGIN:STANDARD
TZNAME:PST
DTSTART:20191103T020000
TZOFFSETFROM:-0700
TZOFFSETTO:-0800
RDATE:20201101T020000
END:STANDARD
BEGIN:DAYLIGHT
TZNAME:PDT
DTSTART:20190310T020000
TZOFFSETFROM:-0800
TZOFFSETTO:-0700
RDATE:20200308T020000
RDATE:20210314T020000
END:DAYLIGHT
END:VTIMEZONE
BEGIN:VEVENT
UID:b9b723cc-8c73-4c75-80cd-84a2e2c5a21d
DTSTAMP:20260424T053209Z
DESCRIPTION:Construir y fortalecer conexiones \nDiviértete aprendiendo junt
 os
DTSTART;TZID=America/Los_Angeles:20200225T173000
DTEND;TZID=America/Los_Angeles:20200225T193000
LOCATION:Madras
SUMMARY:Crianza De Los Padres
END:VEVENT
END:VCALENDAR
