BEGIN:VCALENDAR
VERSION:2.0
PRODID:-//frconline.org//NONSGML kigkonsult.se iCalcreator 2.30.10//
CALSCALE:GREGORIAN
METHOD:PUBLISH
UID:ffe961ce-131f-4afb-b23f-d9119148ec26
X-WR-CALDESC:Hable con otros padres\, reduzca el estrés\, disfrute criando 
 hijos.\n\nEncuentre maneras positivas de disciplinar y ayudar a sus hijos 
 a tener\néxito en la escuela.\n\nSesiones de 10 semanas para padres con ni
 ños desde recién nacidos hasta los\n8 años.
X-WR-RELCALID:76f380f6c747ee4403f0afef25a51d05
X-WR-TIMEZONE:America/Los_Angeles
BEGIN:VTIMEZONE
TZID:America/Los_Angeles
BEGIN:STANDARD
TZNAME:PST
DTSTART:20191103T020000
TZOFFSETFROM:-0700
TZOFFSETTO:-0800
RDATE:20201101T020000
END:STANDARD
BEGIN:DAYLIGHT
TZNAME:PDT
DTSTART:20190310T020000
TZOFFSETFROM:-0800
TZOFFSETTO:-0700
RDATE:20200308T020000
RDATE:20210314T020000
END:DAYLIGHT
END:VTIMEZONE
BEGIN:VEVENT
UID:c02af9a2-2ea4-4716-8a9f-39bbdde588ea
DTSTAMP:20260424T053948Z
DESCRIPTION:Hable con otros padres\, reduzca el estrés\, disfrute criando h
 ijos.\n\nEncuentre maneras positivas de disciplinar y ayudar a sus hijos a
  tener\néxito en la escuela.\n\nSesiones de 10 semanas para padres con niñ
 os desde recién nacidos hasta los\n8 años.
DTSTART;TZID=America/Los_Angeles:20200219T173000
DTEND;TZID=America/Los_Angeles:20200219T193000
LOCATION:Bend
SUMMARY:Que la Crianza de sus Hijos sea un placer
END:VEVENT
END:VCALENDAR
