BEGIN:VCALENDAR
VERSION:2.0
PRODID:-//frconline.org//NONSGML kigkonsult.se iCalcreator 2.30.10//
CALSCALE:GREGORIAN
METHOD:PUBLISH
UID:8e9013e5-cf5b-4985-b6a7-77291c433142
X-WR-CALDESC:6-weekly sessions for parents of children 5-12 years. Learn ab
 out parenting styles & brain development\, explore cooperation and communi
 cation techniques and learn seven smart things parents can do to help chil
 dren succeed in school.
X-WR-RELCALID:6b812a740f456a0ce75259f9e9069dcd
X-WR-TIMEZONE:America/Los_Angeles
BEGIN:VTIMEZONE
TZID:America/Los_Angeles
BEGIN:STANDARD
TZNAME:PST
DTSTART:20181104T020000
TZOFFSETFROM:-0700
TZOFFSETTO:-0800
RDATE:20191103T020000
RDATE:20201101T020000
END:STANDARD
BEGIN:DAYLIGHT
TZNAME:PDT
DTSTART:20190310T020000
TZOFFSETFROM:-0800
TZOFFSETTO:-0700
RDATE:20200308T020000
END:DAYLIGHT
END:VTIMEZONE
BEGIN:VEVENT
UID:ce090120-2493-4745-b4c1-2d7f1cdbb2a4
DTSTAMP:20260424T202820Z
DESCRIPTION:6-weekly sessions for parents of children 5-12 years. Learn abo
 ut parenting styles & brain development\, explore cooperation and communic
 ation techniques and learn seven smart things parents can do to help child
 ren succeed in school.
DTSTART;TZID=America/Los_Angeles:20190523T173000
DTEND;TZID=America/Los_Angeles:20190523T193000
LOCATION:Active Parenting Now
SUMMARY:Active Parenting Now
END:VEVENT
END:VCALENDAR
