BEGIN:VCALENDAR
VERSION:2.0
PRODID:-//frconline.org//NONSGML kigkonsult.se iCalcreator 2.30.10//
CALSCALE:GREGORIAN
METHOD:PUBLISH
UID:d19c6ede-ea53-4aa5-8cb0-ea8832da4963
X-WR-CALDESC:Una sesión de dos horas\, cada semana por 6 semanas en la escu
 ela de su hijo.\nPaternidad activa para tener éxito en la escuela\nCómo co
 mprender y reencaminar el mal comportamiento\nCómo el desarrollo del cereb
 ro afecta el comportamiento y la toma de decisiones de los niños\nCooperac
 ión y Comunicación\nResponsabilidad y Disciplina\nDesarrollo del valor y l
 a estima propia\n\nEs necesario inscribirse.\nLlame: Maria Teresa a 541-40
 8-4388\n\n
X-WR-RELCALID:d1d2b7bb6a2d0931c36182b03f0f1bfc
X-WR-TIMEZONE:America/Los_Angeles
BEGIN:VTIMEZONE
TZID:America/Los_Angeles
BEGIN:STANDARD
TZNAME:PST
DTSTART:20181104T020000
TZOFFSETFROM:-0700
TZOFFSETTO:-0800
RDATE:20191103T020000
RDATE:20201101T020000
END:STANDARD
BEGIN:DAYLIGHT
TZNAME:PDT
DTSTART:20190310T020000
TZOFFSETFROM:-0800
TZOFFSETTO:-0700
RDATE:20200308T020000
END:DAYLIGHT
END:VTIMEZONE
BEGIN:VEVENT
UID:a72d6111-ee25-4348-93c7-99d509072835
DTSTAMP:20260424T202717Z
DESCRIPTION:Una sesión de dos horas\, cada semana por 6 semanas en la escue
 la de su hijo.\nPaternidad activa para tener éxito en la escuela\nCómo com
 prender y reencaminar el mal comportamiento\nCómo el desarrollo del cerebr
 o afecta el comportamiento y la toma de decisiones de los niños\nCooperaci
 ón y Comunicación\nResponsabilidad y Disciplina\nDesarrollo del valor y la
  estima propia\n\nEs necesario inscribirse.\nLlame: Maria Teresa a 541-408
 -4388\n\n
DTSTART;TZID=America/Los_Angeles:20190516T173000
DTEND;TZID=America/Los_Angeles:20190516T193000
LOCATION:
SUMMARY:Paternidad Activa
END:VEVENT
END:VCALENDAR
