BEGIN:VCALENDAR
VERSION:2.0
PRODID:-//frconline.org//NONSGML kigkonsult.se iCalcreator 2.30.10//
CALSCALE:GREGORIAN
METHOD:PUBLISH
UID:3a5d0e3b-463c-491e-9a3a-3cfff19b15b3
X-WR-CALDESC:Una sesión de dos horas\, cada semana por 6 semanas en la escu
 ela de su hijo.\nPaternidad activa para tener éxito en la escuela\nCómo co
 mprender y reencaminar el mal comportamiento\nCómo el desarrollo del cereb
 ro afecta el comportamiento y la toma de decisiones de los niños\nCooperac
 ión y Comunicación\nResponsabilidad y Disciplina\nDesarrollo del valor y l
 a estima propia\n\nEs necesario inscribirse.\nLlame: Maria Teresa a 541-40
 8-4388\n\n
X-WR-RELCALID:2bd03ad616542de8ce5f751897cbffa8
X-WR-TIMEZONE:America/Los_Angeles
BEGIN:VTIMEZONE
TZID:America/Los_Angeles
BEGIN:STANDARD
TZNAME:PST
DTSTART:20181104T020000
TZOFFSETFROM:-0700
TZOFFSETTO:-0800
RDATE:20191103T020000
END:STANDARD
BEGIN:DAYLIGHT
TZNAME:PDT
DTSTART:20190310T020000
TZOFFSETFROM:-0800
TZOFFSETTO:-0700
RDATE:20200308T020000
END:DAYLIGHT
END:VTIMEZONE
BEGIN:VEVENT
UID:7906f9ee-8cdc-4748-994f-2d35c4f8be4d
DTSTAMP:20260424T202620Z
DESCRIPTION:Una sesión de dos horas\, cada semana por 6 semanas en la escue
 la de su hijo.\nPaternidad activa para tener éxito en la escuela\nCómo com
 prender y reencaminar el mal comportamiento\nCómo el desarrollo del cerebr
 o afecta el comportamiento y la toma de decisiones de los niños\nCooperaci
 ón y Comunicación\nResponsabilidad y Disciplina\nDesarrollo del valor y la
  estima propia\n\nEs necesario inscribirse.\nLlame: Maria Teresa a 541-408
 -4388\n\n
DTSTART;TZID=America/Los_Angeles:20190502T173000
DTEND;TZID=America/Los_Angeles:20190502T193000
LOCATION:
SUMMARY:Paternidad Activa
END:VEVENT
END:VCALENDAR
