BEGIN:VCALENDAR
VERSION:2.0
PRODID:-//frconline.org//NONSGML kigkonsult.se iCalcreator 2.30.10//
CALSCALE:GREGORIAN
METHOD:PUBLISH
UID:70371b57-b695-459c-a60b-759cb047d1be
X-WR-CALDESC:7-weekly sessions for parents\, grandparents and care provider
 s of children 0 to 6 years. Have fun learning new ways to handle challengi
 ng\nbehaviors & situations\, how to establish family routines\, problem so
 lving with young children and positive approaches to discipline and\ncommu
 nication.\n
X-WR-RELCALID:109a1b9c8785c61df494f6cb3bb2ca98
X-WR-TIMEZONE:America/Los_Angeles
BEGIN:VTIMEZONE
TZID:America/Los_Angeles
BEGIN:STANDARD
TZNAME:PST
DTSTART:20181104T020000
TZOFFSETFROM:-0700
TZOFFSETTO:-0800
RDATE:20191103T020000
END:STANDARD
BEGIN:DAYLIGHT
TZNAME:PDT
DTSTART:20190310T020000
TZOFFSETFROM:-0800
TZOFFSETTO:-0700
RDATE:20200308T020000
END:DAYLIGHT
END:VTIMEZONE
BEGIN:VEVENT
UID:23f47dc5-b0e3-4b9a-bbaf-9e3994d7f9b6
DTSTAMP:20260424T215615Z
DESCRIPTION:7-weekly sessions for parents\, grandparents and care providers
  of children 0 to 6 years. Have fun learning new ways to handle challengin
 g\nbehaviors & situations\, how to establish family routines\, problem sol
 ving with young children and positive approaches to discipline and\ncommun
 ication.\n
DTSTART;TZID=America/Los_Angeles:20190418T173000
DTEND;TZID=America/Los_Angeles:20190418T193000
LOCATION:Alyce Hatch Center
SUMMARY:Parenting Now
END:VEVENT
END:VCALENDAR
