BEGIN:VCALENDAR
VERSION:2.0
PRODID:-//frconline.org//NONSGML kigkonsult.se iCalcreator 2.30.10//
CALSCALE:GREGORIAN
METHOD:PUBLISH
UID:52f97699-df38-4da2-bbe0-6d4358906177
X-WR-CALDESC:10-weekly sessions for parents\, grandparents and care provide
 rs of children 0 to 8 years. Explore the latest parenting techniques\, lea
 rn to set limits\, find positive approaches to discipline\, and help your 
 child prepare for school success.
X-WR-RELCALID:5849c702622f22b9e20d4de4509e77ff
X-WR-TIMEZONE:America/Los_Angeles
BEGIN:VTIMEZONE
TZID:America/Los_Angeles
BEGIN:STANDARD
TZNAME:PST
DTSTART:20181104T020000
TZOFFSETFROM:-0700
TZOFFSETTO:-0800
RDATE:20191103T020000
END:STANDARD
BEGIN:DAYLIGHT
TZNAME:PDT
DTSTART:20190310T020000
TZOFFSETFROM:-0800
TZOFFSETTO:-0700
RDATE:20200308T020000
END:DAYLIGHT
END:VTIMEZONE
BEGIN:VEVENT
UID:0eab5c7c-b313-487e-be3f-0cc33aab97c7
DTSTAMP:20260424T233245Z
DESCRIPTION:10-weekly sessions for parents\, grandparents and care provider
 s of children 0 to 8 years. Explore the latest parenting techniques\, lear
 n to set limits\, find positive approaches to discipline\, and help your c
 hild prepare for school success.
DTSTART;TZID=America/Los_Angeles:20190319T180000
DTEND;TZID=America/Los_Angeles:20190319T200000
LOCATION:Madras Oregon Child Development Coalition
SUMMARY:Make Parenting a Pleasure
END:VEVENT
END:VCALENDAR
